{ "currentVersion": 11.3, "cimVersion": "3.3.0", "serviceDescription": "Inundation surfaces that highlight areas of possible concern for different Sea Level Rise (SLR) scenarios. Flood surfaces were created for the following scenarios: \nMean Higher High Water (MHHW) plus 1\u2019 Sea Level Rise (SLR) \nMHHW plus 3\u2019 SLR \nMHHW plus 1\u2019 SLR and 3\u2019 storm surge \nMHHW plus 5\u2019 SLR \nHurricane of \u201938 flood levels in Newport, RI\n

\nAll elevation values reference NAVD88. The Hurricane of 1938 flooding was estimated using an 9.46 foot surge above MHHW, which was the maximum recorded value at the Newport Tide station. This is estimated to be similar to the FEMA \"100-year storm\u201d. Sea Level Rise (SLR) scenarios were based on the current CRMC policy which accommodates a 3 to 5 foot rise by 2100 and are illustrated at 1\u2019, 3\u2019 and 5\u2019 intervals. These elevation estimates are based on real data and are not a model. \n

\nCaveats: Inundation zones were created using single-value \u201cbathtub\u201d analyses, where the water level rises without detailed modeling or changes in topography. Inland hollows and other lowland areas maybe be seen as flooded, whereas they may not be connected to the sea and affected by the sea level rise. All flood surfaces are for general planning purposes only. They are very useful for highlighting vulnerabilities, but could vary widely from the results of an actual event. It is expected that these maps will be used in conjunction with expert local knowledge to refine the exposure risks.\n

\nDISCLAIMER: Sea Level Rise (SLR) map services are for reference only. The user of this information understands and acknowledges that the data may be inaccurate or contain errors or omissions and the user assumes full responsibility for any risks or damages resulting from any use of or reliance upon this data. The University of Rhode Island's Environmental Data Center does not guarantee the accuracy or reliability of the data generated from this service.\nThe user of this information should always consult official FEMA Flood Insurance Rate Maps<\/a> and certified elevation data if there is any doubt of flood risk.", "mapName": "Sea Level Rise Scenarios", "description": "", "copyrightText": "Rhode Island Sea Grant; University of Rhode Island Environmental Data Center (URIEDC); RI Division of Planning; RI CRMC", "supportsDynamicLayers": false, "layers": [ { "id": 0, "name": "MHHW Plus 1' Sea Level Rise (SLR)", "parentLayerId": -1, "defaultVisibility": true, "subLayerIds": null, "minScale": 0, "maxScale": 0, "type": "Raster Layer", "supportsDynamicLegends": true } ], "tables": [], "spatialReference": { "wkid": 102100, "latestWkid": 3857, "xyTolerance": 0.001, "zTolerance": 0.001, "mTolerance": 0.001, "falseX": -20037700, "falseY": -30241100, "xyUnits": 1.4892314192838538E8, "falseZ": -100000, "zUnits": 10000, "falseM": -100000, "mUnits": 10000 }, "singleFusedMapCache": true, "tileInfo": { "rows": 256, "cols": 256, "dpi": 96, "format": "PNG", "compressionQuality": 0, "origin": { "x": -2.0037508342787E7, "y": 2.0037508342787E7 }, "spatialReference": { "wkid": 102100, "latestWkid": 3857, "xyTolerance": 0.001, "zTolerance": 0.001, "mTolerance": 0.001, "falseX": -20037700, "falseY": -30241100, "xyUnits": 1.4892314192838538E8, "falseZ": -100000, "zUnits": 10000, "falseM": -100000, "mUnits": 10000 }, "lods": [ { "level": 0, "resolution": 156543.03392800014, "scale": 5.91657527591555E8 }, { "level": 1, "resolution": 78271.51696399994, "scale": 2.95828763795777E8 }, { "level": 2, "resolution": 39135.75848200009, "scale": 1.47914381897889E8 }, { "level": 3, "resolution": 19567.87924099992, "scale": 7.3957190948944E7 }, { "level": 4, "resolution": 9783.93962049996, "scale": 3.6978595474472E7 }, { "level": 5, "resolution": 4891.96981024998, "scale": 1.8489297737236E7 }, { "level": 6, "resolution": 2445.98490512499, "scale": 9244648.868618 }, { "level": 7, "resolution": 1222.992452562495, "scale": 4622324.434309 }, { "level": 8, "resolution": 611.4962262813797, "scale": 2311162.217155 }, { "level": 9, "resolution": 305.74811314055756, "scale": 1155581.108577 }, { "level": 10, "resolution": 152.87405657041106, "scale": 577790.554289 }, { "level": 11, "resolution": 76.43702828507324, "scale": 288895.277144 }, { "level": 12, "resolution": 38.21851414253662, "scale": 144447.638572 }, { "level": 13, "resolution": 19.10925707126831, "scale": 72223.819286 }, { "level": 14, "resolution": 9.554628535634155, "scale": 36111.909643 }, { "level": 15, "resolution": 4.77731426794937, "scale": 18055.954822 }, { "level": 16, "resolution": 2.388657133974685, "scale": 9027.977411 }, { "level": 17, "resolution": 1.1943285668550503, "scale": 4513.988705 }, { "level": 18, "resolution": 0.5971642835598172, "scale": 2256.994353 }, { "level": 19, "resolution": 0.29858214164761665, "scale": 1128.497176 } ] }, "storageInfo": { "storageFormat": "esriMapCacheStorageModeCompact", "packetSize": 128 }, "initialExtent": { "xmin": -8007011.647330206, "ymin": 5065558.165676527, "xmax": -7896415.5928047635, "ymax": 5131280.797121789, "spatialReference": { "cs": "pcs", "wkid": 102100 } }, "fullExtent": { "xmin": -8005666.275432427, "ymin": 5031739.436123324, "xmax": -7914583.4375752695, "ymax": 5165988.918867822, "spatialReference": { "cs": "pcs", "wkid": 102100 } }, "datesInUnknownTimezone": false, "minScale": 1155581.108577, "maxScale": 4513.988705, "units": "esriMeters", "supportedImageFormatTypes": "PNG32,PNG24,PNG,JPG,DIB,TIFF,EMF,PS,PDF,GIF,SVG,SVGZ,BMP", "documentInfo": { "Title": "Rhode Island Inundation Scenarios Developed from a LiDAR-Derived Elevation Model", "Author": "CDamon (URIEDC)", "Comments": "This work sought to compile the best-available elevation and bathymetry data for the state, then construct a new, continuous topographic/bathymetric digital elevation model (DEM). These combined data would generate a much more useful picture of the coastal environment, allowing for better coastal hazards planning along with the more traditional upland uses. In addition to the DEM both a hillshade and 2, 5, and 10-foot contour datasets were developed. These products are in high demand for effective visualization and analysis, and create a complete elevation product package for the state that can then be used for evaluating coastal hazards.", "Subject": "Inundation surfaces that highlight areas of possible concern for different Sea Level Rise (SLR) scenarios. All flood surfaces build upon mean higher-high water. ", "Category": "", "Version": "10.1", "AntialiasingMode": "Best", "TextAntialiasingMode": "Force", "Keywords": "SLR,sea level rise,inundation,climate change,RI,RhodeIsland,RhodeIslandDigitalAtlas,RIGIS,URIEDC" }, "supportsQueryDomains": true, "capabilities": "Map,Query,Data", "supportedQueryFormats": "JSON, geoJSON, PBF", "exportTilesAllowed": false, "referenceScale": 0.0, "datumTransformations": [ { "geoTransforms": [ { "wkid": 108001, "latestWkid": 1241, "transformForward": true, "name": "NAD_1927_To_NAD_1983_NADCON" } ] }, { "geoTransforms": [ { "wkid": 108001, "latestWkid": 1241, "transformForward": false, "name": "NAD_1927_To_NAD_1983_NADCON" } ] }, { "geoTransforms": [ { "wkid": 1515, "latestWkid": 1515, "transformForward": true, "name": "NAD_1983_To_WGS_1984_5" } ] }, { "geoTransforms": [ { "wkid": 1515, "latestWkid": 1515, "transformForward": false, "name": "NAD_1983_To_WGS_1984_5" } ] } ], "supportsDatumTransformation": true, "archivingInfo": {"supportsHistoricMoment": false}, "supportsClipping": true, "supportsSpatialFilter": true, "supportsTimeRelation": true, "supportsQueryDataElements": true, "mapUnits": {"uwkid": 9001}, "maxRecordCount": 10000, "maxImageHeight": 4096, "maxImageWidth": 4096, "supportedExtensions": "KmlServer" }