{
 "currentVersion": 11.3,
 "serviceDescription": "CERI/SouthCoast_RiskSurface_Max_SLR5",
 "name": "CERI/SouthCoast_RiskSurface_Max_SLR5",
 "description": "",
 "extent": {
  "xmin": 217686.87123474618,
  "ymin": 80411.44876407165,
  "xmax": 341789.6928347462,
  "ymax": 130417.40236407166,
  "spatialReference": {
   "wkid": 102730,
   "latestWkid": 3438
  }
 },
 "initialExtent": {
  "xmin": 217686.87123474618,
  "ymin": 80411.44876407165,
  "xmax": 341789.6928347462,
  "ymax": 130417.40236407166,
  "spatialReference": {
   "wkid": 102730,
   "latestWkid": 3438
  }
 },
 "fullExtent": {
  "xmin": 217686.87123474618,
  "ymin": 80411.44876407165,
  "xmax": 341789.6928347462,
  "ymax": 130417.40236407166,
  "spatialReference": {
   "wkid": 102730,
   "latestWkid": 3438
  }
 },
 "sortableFields": "",
 "bandCount": 1,
 "pixelType": "F32",
 "minValues": [
  -1
 ],
 "maxValues": [
  100
 ],
 "meanValues": [
  46.575942084934034
 ],
 "stdvValues": [
  41.04766822985946
 ],
 "hasMultidimensions": false,
 "pixelSizeX": 3.2808000000000006,
 "pixelSizeY": 3.2808000000000006,
 "meanPixelSize": 0.9999898399796803,
 "datasetFormat": "FGDBR",
 "uncompressedSize": 2306236536,
 "blockWidth": 128,
 "blockHeight": 128,
 "compressionType": "LZ77",
 "bandNames": [
  "Band_1"
 ],
 "allowCopy": true,
 "allowAnalysis": true,
 "itemAccess": false,
 "inspectionCapabilities": "",
 "minPixelSize": 0,
 "maxPixelSize": 0,
 "copyrightText": "",
 "serviceDataType": "esriImageServiceDataTypeGeneric",
 "serviceSourceType": "esriImageServiceSourceTypeDataset",
 "objectIdField": "",
 "fields": [],
 "capabilities": "Image,Metadata,Mensuration",
 "defaultMosaicMethod": "Center",
 "allowedMosaicMethods": "",
 "sortField": "",
 "sortValue": null,
 "sortAscending": true,
 "mosaicOperator": "First",
 "defaultCompressionQuality": 75,
 "defaultResamplingMethod": "Nearest",
 "maxImageHeight": 4100,
 "maxImageWidth": 15000,
 "allowRasterFunction": true,
 "rasterFunctionInfos": [
  {
   "name": "Structural Damage Risk",
   "description": "Color ramp showing projected damage for a worst case scenario -- a single story home with a basement.",
   "help": ""
  },
  {
   "name": "None",
   "description": "",
   "help": ""
  }
 ],
 "rasterTypeInfos": [
  {
   "name": "Raster Dataset",
   "description": "Supports all ArcGIS Raster Datasets",
   "help": ""
  }
 ],
 "mensurationCapabilities": "Basic",
 "hasHistograms": true,
 "hasColormap": false,
 "hasRasterAttributeTable": false,
 "minScale": 0,
 "maxScale": 0,
 "exportTilesAllowed": false,
 "supportsStatistics": false,
 "supportsAdvancedQueries": false,
 "editFieldsInfo": null,
 "ownershipBasedAccessControlForRasters": null,
 "allowComputeTiePoints": false,
 "useStandardizedQueries": true,
 "advancedQueryCapabilities": {
  "useStandardizedQueries": true,
  "supportsStatistics": false,
  "supportsOrderBy": false,
  "supportsDistinct": false,
  "supportsPagination": false
 },
 "spatialReference": {
  "wkid": 102730,
  "latestWkid": 3438
 }
}
