{
 "currentVersion": 11.3,
 "serviceDescription": "Water depths relative to Mean High Water (MHW). Calculations were performed using the standard NOAA methodology outlined in the technical document: Detailed Method for Mapping Sea Level Rise. January 2017.",
 "name": "Elevation/WaterDepth_RelativeTo_MHW",
 "description": "Water depths relative to Mean High Water (MHW). Calculations were performed using the standard NOAA methodology outlined in the technical document: Detailed Method for Mapping Sea Level Rise. January 2017.",
 "extent": {
  "xmin": 215031.4349068366,
  "ymin": 17768.993522428325,
  "xmax": 456465.50690683664,
  "ymax": 346196.75832242833,
  "spatialReference": {
   "wkid": 102730,
   "latestWkid": 3438
  }
 },
 "initialExtent": {
  "xmin": 215031.4349068366,
  "ymin": 17768.993522428325,
  "xmax": 456465.50690683664,
  "ymax": 346196.75832242833,
  "spatialReference": {
   "wkid": 102730,
   "latestWkid": 3438
  }
 },
 "fullExtent": {
  "xmin": 215031.4349068366,
  "ymin": 17768.993522428325,
  "xmax": 456465.50690683664,
  "ymax": 346196.75832242833,
  "spatialReference": {
   "wkid": 102730,
   "latestWkid": 3438
  }
 },
 "sortableFields": "",
 "bandCount": 1,
 "pixelType": "F32",
 "minValues": [
  -323.5336608886719
 ],
 "maxValues": [
  0
 ],
 "meanValues": [
  -89.30138775584567
 ],
 "stdvValues": [
  42.1795451956679
 ],
 "hasMultidimensions": false,
 "pixelSizeX": 3.2808000000000006,
 "pixelSizeY": 3.2808,
 "meanPixelSize": 0.9999898399796802,
 "datasetFormat": "FGDBR",
 "uncompressedSize": 29467202160,
 "blockWidth": 128,
 "blockHeight": 128,
 "compressionType": "LZ77",
 "bandNames": [
  "Band_1"
 ],
 "allowCopy": true,
 "allowAnalysis": true,
 "itemAccess": false,
 "inspectionCapabilities": "",
 "minPixelSize": 0,
 "maxPixelSize": 0,
 "copyrightText": "",
 "serviceDataType": "esriImageServiceDataTypeGeneric",
 "serviceSourceType": "esriImageServiceSourceTypeDataset",
 "objectIdField": "",
 "fields": [],
 "capabilities": "Image,Metadata,Mensuration",
 "defaultMosaicMethod": "Center",
 "allowedMosaicMethods": "",
 "sortField": "",
 "sortValue": null,
 "sortAscending": true,
 "mosaicOperator": "First",
 "defaultCompressionQuality": 75,
 "defaultResamplingMethod": "Bilinear",
 "maxImageHeight": 4100,
 "maxImageWidth": 15000,
 "allowRasterFunction": true,
 "rasterFunctionInfos": [
  {
   "name": "None",
   "description": "",
   "help": ""
  }
 ],
 "rasterTypeInfos": [
  {
   "name": "Raster Dataset",
   "description": "Supports all ArcGIS Raster Datasets",
   "help": ""
  }
 ],
 "mensurationCapabilities": "Basic",
 "hasHistograms": true,
 "hasColormap": false,
 "hasRasterAttributeTable": false,
 "minScale": 0,
 "maxScale": 0,
 "exportTilesAllowed": false,
 "supportsStatistics": false,
 "supportsAdvancedQueries": false,
 "editFieldsInfo": null,
 "ownershipBasedAccessControlForRasters": null,
 "allowComputeTiePoints": false,
 "useStandardizedQueries": true,
 "advancedQueryCapabilities": {
  "useStandardizedQueries": true,
  "supportsStatistics": false,
  "supportsOrderBy": false,
  "supportsDistinct": false,
  "supportsPagination": false
 },
 "spatialReference": {
  "wkid": 102730,
  "latestWkid": 3438
 }
}
