{
 "currentVersion": 11.3,
 "serviceDescription": "These data are served as a single mosaic that contains multiple raster datasets. There is one mosaic for each MHHW surface. To work as intended, the display must be \u201clocked\u201d to a specific Image ID limiting the display a single raster at any one time.\n\nImage ID # Data Content\n 1 MHHW with 0 feet Sea Level Rise (SLR)\n 2 Including 1 feet SLR\n 3 Including 2 feet SLR\n 4 Including 3 feet SLR\n 5 Including 5 feet SLR\n 6 Including 7 feet SLR\n 7 Including 10 feet SLR\n 8 Including 12 feet SLR",
 "name": "General/Mosaic_Merged_MHHW_All",
 "description": "These data are served as a single mosaic that contains multiple raster datasets. There is one mosaic for each MHHW surface. To work as intended, the display must be \u201clocked\u201d to a specific Image ID limiting the display a single raster at any one time.\n\nImage ID # Data Content\n 1 MHHW with 0 feet Sea Level Rise (SLR)\n 2 Including 1 feet SLR\n 3 Including 2 feet SLR\n 4 Including 3 feet SLR\n 5 Including 5 feet SLR\n 6 Including 7 feet SLR\n 7 Including 10 feet SLR\n 8 Including 12 feet SLR",
 "extent": {
  "xmin": -8005666.2926,
  "ymin": 5031739.09609289,
  "xmax": -7914583.218015291,
  "ymax": 5165988.7321000025,
  "spatialReference": {
   "wkid": 102100,
   "latestWkid": 3857
  }
 },
 "initialExtent": {
  "xmin": -8005666.2926,
  "ymin": 5031739.09609289,
  "xmax": -7914583.218015291,
  "ymax": 5165988.7321000025,
  "spatialReference": {
   "wkid": 102100,
   "latestWkid": 3857
  }
 },
 "fullExtent": {
  "xmin": -8005666.2926,
  "ymin": 5031739.09609289,
  "xmax": -7914583.218015291,
  "ymax": 5165988.7321000025,
  "spatialReference": {
   "wkid": 102100,
   "latestWkid": 3857
  }
 },
 "sortableFields": "",
 "bandCount": 1,
 "pixelType": "U16",
 "minValues": [
  0
 ],
 "maxValues": [
  37667
 ],
 "meanValues": [
  3673.646517982389
 ],
 "stdvValues": [
  9573.960726859
 ],
 "hasMultidimensions": false,
 "pixelSizeX": 0.9999898399796834,
 "pixelSizeY": 0.9999898399796832,
 "meanPixelSize": 0.9999898399796833,
 "datasetFormat": "AMD",
 "uncompressedSize": 24456236168,
 "blockWidth": 2048,
 "blockHeight": 256,
 "compressionType": "None",
 "bandNames": [
  "Band_1"
 ],
 "allowCopy": true,
 "allowAnalysis": true,
 "itemAccess": false,
 "inspectionCapabilities": "",
 "minPixelSize": 0,
 "maxPixelSize": 0,
 "copyrightText": "URI EDC",
 "serviceDataType": "esriImageServiceDataTypeGeneric",
 "serviceSourceType": "esriImageServiceSourceTypeMosaicDataset",
 "objectIdField": "OBJECTID",
 "fields": [
  {
   "name": "OBJECTID",
   "type": "esriFieldTypeOID",
   "alias": "OBJECTID",
   "domain": null
  },
  {
   "name": "Shape",
   "type": "esriFieldTypeGeometry",
   "alias": "Shape",
   "domain": null
  },
  {
   "name": "Name",
   "type": "esriFieldTypeString",
   "alias": "Name",
   "domain": null,
   "length": 200
  },
  {
   "name": "MinPS",
   "type": "esriFieldTypeDouble",
   "alias": "MinPS",
   "domain": null
  },
  {
   "name": "MaxPS",
   "type": "esriFieldTypeDouble",
   "alias": "MaxPS",
   "domain": null
  },
  {
   "name": "LowPS",
   "type": "esriFieldTypeDouble",
   "alias": "LowPS",
   "domain": null
  },
  {
   "name": "HighPS",
   "type": "esriFieldTypeDouble",
   "alias": "HighPS",
   "domain": null
  },
  {
   "name": "Category",
   "type": "esriFieldTypeInteger",
   "alias": "Category",
   "domain": {
    "type": "codedValue",
    "name": "MosaicCatalogItemCategoryDomain",
    "description": "Catalog item categories.",
    "codedValues": [
     {
      "name": "Unknown",
      "code": 0
     },
     {
      "name": "Primary",
      "code": 1
     },
     {
      "name": "Overview",
      "code": 2
     },
     {
      "name": "Unprocessed Overview",
      "code": 3
     },
     {
      "name": "Partial Overview",
      "code": 4
     },
     {
      "name": "Inactive",
      "code": 5
     },
     {
      "name": "Uploaded",
      "code": 253
     },
     {
      "name": "Incomplete",
      "code": 254
     },
     {
      "name": "Custom",
      "code": 255
     }
    ],
    "mergePolicy": "esriMPTDefaultValue",
    "splitPolicy": "esriSPTDefaultValue"
   }
  },
  {
   "name": "Tag",
   "type": "esriFieldTypeString",
   "alias": "Tag",
   "domain": null,
   "length": 100
  },
  {
   "name": "GroupName",
   "type": "esriFieldTypeString",
   "alias": "GroupName",
   "domain": null,
   "length": 100
  },
  {
   "name": "ProductName",
   "type": "esriFieldTypeString",
   "alias": "ProductName",
   "domain": null,
   "length": 100
  },
  {
   "name": "CenterX",
   "type": "esriFieldTypeDouble",
   "alias": "CenterX",
   "domain": null
  },
  {
   "name": "CenterY",
   "type": "esriFieldTypeDouble",
   "alias": "CenterY",
   "domain": null
  },
  {
   "name": "ZOrder",
   "type": "esriFieldTypeInteger",
   "alias": "ZOrder",
   "domain": null
  },
  {
   "name": "Shape_Length",
   "type": "esriFieldTypeDouble",
   "alias": "Shape_Length",
   "domain": null
  },
  {
   "name": "Shape_Area",
   "type": "esriFieldTypeDouble",
   "alias": "Shape_Area",
   "domain": null
  }
 ],
 "capabilities": "Image,Metadata,Catalog",
 "defaultMosaicMethod": "Northwest",
 "allowedMosaicMethods": "NorthWest,Center,LockRaster,ByAttribute,Nadir,Viewpoint,Seamline,None",
 "sortField": "",
 "sortValue": null,
 "sortAscending": true,
 "mosaicOperator": "First",
 "maxDownloadSizeLimit": 2048,
 "defaultCompressionQuality": 75,
 "defaultResamplingMethod": "Bilinear",
 "maxImageHeight": 4100,
 "maxImageWidth": 15000,
 "maxRecordCount": 1000,
 "maxDownloadImageCount": 20,
 "maxMosaicImageCount": 20,
 "allowRasterFunction": true,
 "rasterFunctionInfos": [
  {
   "name": "None",
   "description": "A No-Op Function.",
   "help": ""
  },
  {
   "name": "Inundation Without Adjacent Lowlying Areas",
   "description": "Inundation extent with adjacent lowlying areas removed from the display. Lowlying areas may or may not be flooded and require additional on-the-ground investigation to determine if hydro-connectivity exists.",
   "help": ""
  },
  {
   "name": "Inundation Including Adjacent Lowlying Areas",
   "description": "Inundation extent including adjacent lowlying areas. Lowlying areas may or may not be flooded and require additional on-the-ground investigation to determine if hydro-connectivity exists.",
   "help": ""
  }
 ],
 "rasterTypeInfos": [
  {
   "name": "Raster Dataset",
   "description": "Supports all ArcGIS Raster Datasets",
   "help": ""
  }
 ],
 "mensurationCapabilities": "None",
 "hasHistograms": true,
 "hasColormap": false,
 "hasRasterAttributeTable": false,
 "minScale": 0,
 "maxScale": 0,
 "exportTilesAllowed": false,
 "supportsStatistics": true,
 "supportsAdvancedQueries": true,
 "editFieldsInfo": null,
 "ownershipBasedAccessControlForRasters": null,
 "allowComputeTiePoints": false,
 "useStandardizedQueries": true,
 "advancedQueryCapabilities": {
  "useStandardizedQueries": true,
  "supportsStatistics": true,
  "supportsOrderBy": true,
  "supportsDistinct": true,
  "supportsPagination": true
 },
 "spatialReference": {
  "wkid": 102100,
  "latestWkid": 3857
 }
}
