{
 "currentVersion": 11.3,
 "serviceDescription": "Total water depth surface for Great Slat Pond area of Block Island",
 "name": "SDE/BI_TOTAL_SLR0",
 "description": "Total water depth surface for Great Slat Pond area of Block Island",
 "extent": {
  "xmin": 283560.700860358,
  "ymin": 17631.93595428789,
  "xmax": 330390.84006035805,
  "ymax": 59471.97835428789,
  "spatialReference": {
   "wkid": 102730,
   "latestWkid": 3438
  }
 },
 "initialExtent": {
  "xmin": 283560.700860358,
  "ymin": 17631.93595428789,
  "xmax": 330390.84006035805,
  "ymax": 59471.97835428789,
  "spatialReference": {
   "wkid": 102730,
   "latestWkid": 3438
  }
 },
 "fullExtent": {
  "xmin": 283560.700860358,
  "ymin": 17631.93595428789,
  "xmax": 330390.84006035805,
  "ymax": 59471.97835428789,
  "spatialReference": {
   "wkid": 102730,
   "latestWkid": 3438
  }
 },
 "sortableFields": "",
 "bandCount": 1,
 "pixelType": "F32",
 "minValues": [
  0.0038890838623046875
 ],
 "maxValues": [
  25.748525619506836
 ],
 "meanValues": [
  12.881066170253812
 ],
 "stdvValues": [
  6.87765106998702
 ],
 "hasMultidimensions": false,
 "pixelSizeX": 3.2808000000000024,
 "pixelSizeY": 3.2807999999999997,
 "meanPixelSize": 0.9999898399796804,
 "datasetFormat": "FGDBR",
 "uncompressedSize": 728145288,
 "blockWidth": 128,
 "blockHeight": 128,
 "compressionType": "LZ77",
 "bandNames": [
  "Band_1"
 ],
 "allowCopy": true,
 "allowAnalysis": true,
 "itemAccess": false,
 "inspectionCapabilities": "",
 "minPixelSize": 0,
 "maxPixelSize": 0,
 "copyrightText": "",
 "serviceDataType": "esriImageServiceDataTypeGeneric",
 "serviceSourceType": "esriImageServiceSourceTypeDataset",
 "objectIdField": "",
 "fields": [],
 "capabilities": "Image,Metadata,Mensuration",
 "defaultMosaicMethod": "Center",
 "allowedMosaicMethods": "",
 "sortField": "",
 "sortValue": null,
 "sortAscending": true,
 "mosaicOperator": "First",
 "defaultCompressionQuality": 75,
 "defaultResamplingMethod": "Bilinear",
 "maxImageHeight": 4100,
 "maxImageWidth": 15000,
 "allowRasterFunction": true,
 "rasterFunctionInfos": [
  {
   "name": "Total Water Depth",
   "description": "Color ramp to display the total water depth above grade(Surge + Tide).",
   "help": ""
  },
  {
   "name": "None",
   "description": "",
   "help": ""
  }
 ],
 "rasterTypeInfos": [
  {
   "name": "Raster Dataset",
   "description": "Supports all ArcGIS Raster Datasets",
   "help": ""
  }
 ],
 "mensurationCapabilities": "Basic",
 "hasHistograms": true,
 "hasColormap": false,
 "hasRasterAttributeTable": false,
 "minScale": 0,
 "maxScale": 0,
 "exportTilesAllowed": false,
 "supportsStatistics": false,
 "supportsAdvancedQueries": false,
 "editFieldsInfo": null,
 "ownershipBasedAccessControlForRasters": null,
 "allowComputeTiePoints": false,
 "useStandardizedQueries": true,
 "advancedQueryCapabilities": {
  "useStandardizedQueries": true,
  "supportsStatistics": false,
  "supportsOrderBy": false,
  "supportsDistinct": false,
  "supportsPagination": false
 },
 "spatialReference": {
  "wkid": 102730,
  "latestWkid": 3438
 }
}
