{
 "currentVersion": 11.3,
 "serviceDescription": "STORMTOOLS is a collection of tools designed specifically to map storm inundation within Narragansett Bay, with and without sea level rise. Data products and reports are available at the Shoreline Change Special Area Management Plan's website:(http://www.beachsamp.org)\n\nAs part of this work, STORMTOOLS models were used to generate new Base Flood Elevation (BFE) and storm surge surfaces for Rhode Island's Narragansett Bay. To avoid confusion with existing FEMA BFE maps, STORMTOOLS refers to these data as \"Suggested Design Elevation\" (SDE) maps.\n\nThese data are served as a single mosaic that contains multiple raster datasets. There is one mosaic for each class of data (SDE, Surge Height, Wave Height, Total Water Depth). To work as intended, the display must be \u201clocked\u201d to a specific Image ID limiting the display a single raster at any one time.\n\nImage ID # Data Content\n 1 100yr SDE with 0 feet Sea Level Rise (SLR)\n 2 Including 2 foot SLR\n 3 Including 3 feet SLR\n 4 Including 5 feet SLR\n 5 Including 7 feet SLR\n 6 Including 10 feet SLR",
 "name": "SDE/Mosaic_Bay_100yr_BFE",
 "description": "STORMTOOLS is a collection of tools designed specifically to map storm inundation within Narragansett Bay, with and without sea level rise. Data products and reports are available at the Shoreline Change Special Area Management Plan's website:(http://www.beachsamp.org)\n\nAs part of this work, STORMTOOLS models were used to generate new Base Flood Elevation (BFE) and storm surge surfaces for Rhode Island's Narragansett Bay. To avoid confusion with existing FEMA BFE maps, STORMTOOLS refers to these data as \"Suggested Design Elevation\" (SDE) maps.\n\nThese data are served as a single mosaic that contains multiple raster datasets. There is one mosaic for each class of data (SDE, Surge Height, Wave Height, Total Water Depth). To work as intended, the display must be \u201clocked\u201d to a specific Image ID limiting the display a single raster at any one time.\n\nImage ID # Data Content\n 1 100yr SDE with 0 feet Sea Level Rise (SLR)\n 2 Including 2 foot SLR\n 3 Including 3 feet SLR\n 4 Including 5 feet SLR\n 5 Including 7 feet SLR\n 6 Including 10 feet SLR",
 "extent": {
  "xmin": -7960850.158600001,
  "ymin": 5064833.890143537,
  "xmax": -7918601.587850699,
  "ymax": 5152219.002300002,
  "spatialReference": {
   "wkid": 102100,
   "latestWkid": 3857
  }
 },
 "initialExtent": {
  "xmin": -7960850.158600001,
  "ymin": 5064833.890143537,
  "xmax": -7918601.587850699,
  "ymax": 5152219.002300002,
  "spatialReference": {
   "wkid": 102100,
   "latestWkid": 3857
  }
 },
 "fullExtent": {
  "xmin": -7960850.158600001,
  "ymin": 5064833.890143537,
  "xmax": -7918601.587850699,
  "ymax": 5152219.002300002,
  "spatialReference": {
   "wkid": 102100,
   "latestWkid": 3857
  }
 },
 "sortableFields": "",
 "bandCount": 1,
 "pixelType": "F32",
 "minValues": [
  2.502272605895996
 ],
 "maxValues": [
  52.163047790527344
 ],
 "meanValues": [
  27.31724260819485
 ],
 "stdvValues": [
  2.6237552746827175
 ],
 "hasMultidimensions": false,
 "pixelSizeX": 0.9999898399796792,
 "pixelSizeY": 0.9999898399796846,
 "meanPixelSize": 0.9999898399796818,
 "datasetFormat": "AMD",
 "uncompressedSize": 14767884456,
 "blockWidth": 2048,
 "blockHeight": 256,
 "compressionType": "None",
 "bandNames": [
  "Band_1"
 ],
 "allowCopy": true,
 "allowAnalysis": true,
 "itemAccess": false,
 "inspectionCapabilities": "",
 "minPixelSize": 0,
 "maxPixelSize": 0,
 "copyrightText": "RI CRMC, URI OCE, URI EDC, URI CRC",
 "serviceDataType": "esriImageServiceDataTypeGeneric",
 "serviceSourceType": "esriImageServiceSourceTypeMosaicDataset",
 "objectIdField": "OBJECTID",
 "fields": [
  {
   "name": "OBJECTID",
   "type": "esriFieldTypeOID",
   "alias": "OBJECTID",
   "domain": null
  },
  {
   "name": "Shape",
   "type": "esriFieldTypeGeometry",
   "alias": "Shape",
   "domain": null
  },
  {
   "name": "Name",
   "type": "esriFieldTypeString",
   "alias": "Name",
   "domain": null,
   "length": 200
  },
  {
   "name": "MinPS",
   "type": "esriFieldTypeDouble",
   "alias": "MinPS",
   "domain": null
  },
  {
   "name": "MaxPS",
   "type": "esriFieldTypeDouble",
   "alias": "MaxPS",
   "domain": null
  },
  {
   "name": "LowPS",
   "type": "esriFieldTypeDouble",
   "alias": "LowPS",
   "domain": null
  },
  {
   "name": "HighPS",
   "type": "esriFieldTypeDouble",
   "alias": "HighPS",
   "domain": null
  },
  {
   "name": "Category",
   "type": "esriFieldTypeInteger",
   "alias": "Category",
   "domain": {
    "type": "codedValue",
    "name": "MosaicCatalogItemCategoryDomain",
    "description": "Catalog item categories.",
    "codedValues": [
     {
      "name": "Unknown",
      "code": 0
     },
     {
      "name": "Primary",
      "code": 1
     },
     {
      "name": "Overview",
      "code": 2
     },
     {
      "name": "Unprocessed Overview",
      "code": 3
     },
     {
      "name": "Partial Overview",
      "code": 4
     },
     {
      "name": "Inactive",
      "code": 5
     },
     {
      "name": "Uploaded",
      "code": 253
     },
     {
      "name": "Incomplete",
      "code": 254
     },
     {
      "name": "Custom",
      "code": 255
     }
    ],
    "mergePolicy": "esriMPTDefaultValue",
    "splitPolicy": "esriSPTDefaultValue"
   }
  },
  {
   "name": "Tag",
   "type": "esriFieldTypeString",
   "alias": "Tag",
   "domain": null,
   "length": 100
  },
  {
   "name": "GroupName",
   "type": "esriFieldTypeString",
   "alias": "GroupName",
   "domain": null,
   "length": 100
  },
  {
   "name": "ProductName",
   "type": "esriFieldTypeString",
   "alias": "ProductName",
   "domain": null,
   "length": 100
  },
  {
   "name": "CenterX",
   "type": "esriFieldTypeDouble",
   "alias": "CenterX",
   "domain": null
  },
  {
   "name": "CenterY",
   "type": "esriFieldTypeDouble",
   "alias": "CenterY",
   "domain": null
  },
  {
   "name": "ZOrder",
   "type": "esriFieldTypeInteger",
   "alias": "ZOrder",
   "domain": null
  },
  {
   "name": "Shape_Length",
   "type": "esriFieldTypeDouble",
   "alias": "Shape_Length",
   "domain": null
  },
  {
   "name": "Shape_Area",
   "type": "esriFieldTypeDouble",
   "alias": "Shape_Area",
   "domain": null
  }
 ],
 "capabilities": "Image,Metadata,Catalog",
 "defaultMosaicMethod": "Northwest",
 "allowedMosaicMethods": "NorthWest,Center,LockRaster,ByAttribute,Nadir,Viewpoint,Seamline,None",
 "sortField": "",
 "sortValue": null,
 "sortAscending": true,
 "mosaicOperator": "First",
 "maxDownloadSizeLimit": 2048,
 "defaultCompressionQuality": 75,
 "defaultResamplingMethod": "Bilinear",
 "maxImageHeight": 4100,
 "maxImageWidth": 15000,
 "maxRecordCount": 1000,
 "maxDownloadImageCount": 20,
 "maxMosaicImageCount": 20,
 "allowRasterFunction": true,
 "rasterFunctionInfos": [
  {
   "name": "None",
   "description": "A No-Op Function.",
   "help": ""
  },
  {
   "name": "Stormtools Design Elevation",
   "description": "Stormtools Design Elevation (SDE) values.",
   "help": ""
  }
 ],
 "rasterTypeInfos": [
  {
   "name": "Raster Dataset",
   "description": "Supports all ArcGIS Raster Datasets",
   "help": ""
  }
 ],
 "mensurationCapabilities": "None",
 "hasHistograms": true,
 "hasColormap": false,
 "hasRasterAttributeTable": false,
 "minScale": 0,
 "maxScale": 0,
 "exportTilesAllowed": false,
 "supportsStatistics": true,
 "supportsAdvancedQueries": true,
 "editFieldsInfo": null,
 "ownershipBasedAccessControlForRasters": null,
 "allowComputeTiePoints": false,
 "useStandardizedQueries": true,
 "advancedQueryCapabilities": {
  "useStandardizedQueries": true,
  "supportsStatistics": true,
  "supportsOrderBy": true,
  "supportsDistinct": true,
  "supportsPagination": true
 },
 "spatialReference": {
  "wkid": 102100,
  "latestWkid": 3857
 }
}
