{
 "currentVersion": 11.3,
 "serviceDescription": "STORMTOOLS is a collection of tools designed specifically to map storm inundation along the Rhode Island coast, with and without sea level rise. Data products and reports are available at the Shoreline Change Special Area Management Plan's website:(http://www.beachsamp.org)\n\nAs part of this work, STORMTOOLS models were used to generate new Base Flood Elevation (BFE) and storm surge surfaces for Rhode Island's South Coast. To avoid confusion with existing FEMA BFE maps, STORMTOOLS refers to these data as \"Suggested Design Elevation\" (SDE) maps.\n\nTYhese TOTAL WATER DEPTH data are served as a single mosaic that contains multiple raster datasets. To work as intended, the display must be \u201clocked\u201d to a specific Image ID limiting the display a single raster at any one time.\n\nImage ID # Data Content\n 1 100yr Event TOTAL WATER DEPTH; 0 feet Sea Level Rise (SLR)\n 2 Including 2 foot SLR\n 3 Including 5 feet SLR\n 4 Including 7 feet SLR\n 5 Including 10 feet SLR",
 "name": "SDE/Mosaic_SouthShore_100yr_TOTALDEPTH",
 "description": "STORMTOOLS is a collection of tools designed specifically to map storm inundation along the Rhode Island coast, with and without sea level rise. Data products and reports are available at the Shoreline Change Special Area Management Plan's website:(http://www.beachsamp.org)\n\nAs part of this work, STORMTOOLS models were used to generate new Base Flood Elevation (BFE) and storm surge surfaces for Rhode Island's South Coast. To avoid confusion with existing FEMA BFE maps, STORMTOOLS refers to these data as \"Suggested Design Elevation\" (SDE) maps.\n\nTYhese TOTAL WATER DEPTH data are served as a single mosaic that contains multiple raster datasets. To work as intended, the display must be \u201clocked\u201d to a specific Image ID limiting the display a single raster at any one time.\n\nImage ID # Data Content\n 1 100yr Event TOTAL WATER DEPTH; 0 feet Sea Level Rise (SLR)\n 2 Including 2 foot SLR\n 3 Including 5 feet SLR\n 4 Including 7 feet SLR\n 5 Including 10 feet SLR",
 "extent": {
  "xmin": -8003011.231899999,
  "ymin": 5031749.397946457,
  "xmax": -7951596.7542774435,
  "ymax": 5077845.9296,
  "spatialReference": {
   "wkid": 102100,
   "latestWkid": 3857
  }
 },
 "initialExtent": {
  "xmin": -8003011.231899999,
  "ymin": 5031749.397946457,
  "xmax": -7951596.7542774435,
  "ymax": 5077845.9296,
  "spatialReference": {
   "wkid": 102100,
   "latestWkid": 3857
  }
 },
 "fullExtent": {
  "xmin": -8003011.231899999,
  "ymin": 5031749.397946457,
  "xmax": -7951596.7542774435,
  "ymax": 5077845.9296,
  "spatialReference": {
   "wkid": 102100,
   "latestWkid": 3857
  }
 },
 "sortableFields": "",
 "bandCount": 1,
 "pixelType": "F32",
 "minValues": [
  -4.209122313186526
 ],
 "maxValues": [
  49.1998307146132
 ],
 "meanValues": [
  14.155271872739329
 ],
 "stdvValues": [
  8.348803157028904
 ],
 "hasMultidimensions": false,
 "pixelSizeX": 0.9999898399796863,
 "pixelSizeY": 0.9999898399796734,
 "meanPixelSize": 0.9999898399796798,
 "datasetFormat": "AMD",
 "uncompressedSize": 9480309020,
 "blockWidth": 2048,
 "blockHeight": 256,
 "compressionType": "None",
 "bandNames": [
  "Band_1"
 ],
 "allowCopy": true,
 "allowAnalysis": true,
 "itemAccess": false,
 "inspectionCapabilities": "",
 "minPixelSize": 0,
 "maxPixelSize": 0,
 "copyrightText": "RI CRMC, URI OCE, URI EDC, URI CRC",
 "serviceDataType": "esriImageServiceDataTypeGeneric",
 "serviceSourceType": "esriImageServiceSourceTypeMosaicDataset",
 "objectIdField": "OBJECTID",
 "fields": [
  {
   "name": "OBJECTID",
   "type": "esriFieldTypeOID",
   "alias": "OBJECTID",
   "domain": null
  },
  {
   "name": "Shape",
   "type": "esriFieldTypeGeometry",
   "alias": "Shape",
   "domain": null
  },
  {
   "name": "Name",
   "type": "esriFieldTypeString",
   "alias": "Name",
   "domain": null,
   "length": 200
  },
  {
   "name": "MinPS",
   "type": "esriFieldTypeDouble",
   "alias": "MinPS",
   "domain": null
  },
  {
   "name": "MaxPS",
   "type": "esriFieldTypeDouble",
   "alias": "MaxPS",
   "domain": null
  },
  {
   "name": "LowPS",
   "type": "esriFieldTypeDouble",
   "alias": "LowPS",
   "domain": null
  },
  {
   "name": "HighPS",
   "type": "esriFieldTypeDouble",
   "alias": "HighPS",
   "domain": null
  },
  {
   "name": "Category",
   "type": "esriFieldTypeInteger",
   "alias": "Category",
   "domain": {
    "type": "codedValue",
    "name": "MosaicCatalogItemCategoryDomain",
    "description": "Catalog item categories.",
    "codedValues": [
     {
      "name": "Unknown",
      "code": 0
     },
     {
      "name": "Primary",
      "code": 1
     },
     {
      "name": "Overview",
      "code": 2
     },
     {
      "name": "Unprocessed Overview",
      "code": 3
     },
     {
      "name": "Partial Overview",
      "code": 4
     },
     {
      "name": "Inactive",
      "code": 5
     },
     {
      "name": "Uploaded",
      "code": 253
     },
     {
      "name": "Incomplete",
      "code": 254
     },
     {
      "name": "Custom",
      "code": 255
     }
    ],
    "mergePolicy": "esriMPTDefaultValue",
    "splitPolicy": "esriSPTDefaultValue"
   }
  },
  {
   "name": "Tag",
   "type": "esriFieldTypeString",
   "alias": "Tag",
   "domain": null,
   "length": 100
  },
  {
   "name": "GroupName",
   "type": "esriFieldTypeString",
   "alias": "GroupName",
   "domain": null,
   "length": 100
  },
  {
   "name": "ProductName",
   "type": "esriFieldTypeString",
   "alias": "ProductName",
   "domain": null,
   "length": 100
  },
  {
   "name": "CenterX",
   "type": "esriFieldTypeDouble",
   "alias": "CenterX",
   "domain": null
  },
  {
   "name": "CenterY",
   "type": "esriFieldTypeDouble",
   "alias": "CenterY",
   "domain": null
  },
  {
   "name": "ZOrder",
   "type": "esriFieldTypeInteger",
   "alias": "ZOrder",
   "domain": null
  },
  {
   "name": "Shape_Length",
   "type": "esriFieldTypeDouble",
   "alias": "Shape_Length",
   "domain": null
  },
  {
   "name": "Shape_Area",
   "type": "esriFieldTypeDouble",
   "alias": "Shape_Area",
   "domain": null
  }
 ],
 "capabilities": "Image,Metadata,Catalog",
 "defaultMosaicMethod": "Northwest",
 "allowedMosaicMethods": "NorthWest,Center,LockRaster,ByAttribute,Nadir,Viewpoint,Seamline,None",
 "sortField": "",
 "sortValue": null,
 "sortAscending": true,
 "mosaicOperator": "First",
 "maxDownloadSizeLimit": 2048,
 "defaultCompressionQuality": 90,
 "defaultResamplingMethod": "Bilinear",
 "maxImageHeight": 4100,
 "maxImageWidth": 15000,
 "maxRecordCount": 1000,
 "maxDownloadImageCount": 20,
 "maxMosaicImageCount": 20,
 "allowRasterFunction": true,
 "rasterFunctionInfos": [
  {
   "name": "None",
   "description": "A No-Op Function.",
   "help": ""
  },
  {
   "name": "Total Water Depth",
   "description": "Color ramp to display the total water depth above grade(Surge + Tide).",
   "help": ""
  }
 ],
 "rasterTypeInfos": [
  {
   "name": "Raster Dataset",
   "description": "Supports all ArcGIS Raster Datasets",
   "help": ""
  }
 ],
 "mensurationCapabilities": "None",
 "hasHistograms": true,
 "hasColormap": false,
 "hasRasterAttributeTable": false,
 "minScale": 0,
 "maxScale": 0,
 "exportTilesAllowed": false,
 "supportsStatistics": true,
 "supportsAdvancedQueries": true,
 "editFieldsInfo": null,
 "ownershipBasedAccessControlForRasters": null,
 "allowComputeTiePoints": false,
 "useStandardizedQueries": true,
 "advancedQueryCapabilities": {
  "useStandardizedQueries": true,
  "supportsStatistics": true,
  "supportsOrderBy": true,
  "supportsDistinct": true,
  "supportsPagination": true
 },
 "spatialReference": {
  "wkid": 102100,
  "latestWkid": 3857
 }
}
