{
 "currentVersion": 11.3,
 "serviceDescription": "Surface showing the difference between MHHW and NAVD88",
 "name": "Stormtools2020/MHHW_To_NAVD_ConversionSurface",
 "description": "Surface showing the difference between MHHW and NAVD88",
 "extent": {
  "xmin": 207145.65763,
  "ymin": 4119.423449999827,
  "xmax": 462063.81762999995,
  "ymax": 366319.74344999983,
  "spatialReference": {
   "wkid": 103144,
   "latestWkid": 6568,
   "vcsWkid": 5703,
   "latestVcsWkid": 5703
  }
 },
 "initialExtent": {
  "xmin": 207145.65763,
  "ymin": 4119.423449999827,
  "xmax": 462063.81762999995,
  "ymax": 366319.74344999983,
  "spatialReference": {
   "wkid": 103144,
   "latestWkid": 6568,
   "vcsWkid": 5703,
   "latestVcsWkid": 5703
  }
 },
 "fullExtent": {
  "xmin": 207145.65763,
  "ymin": 4119.423449999827,
  "xmax": 462063.81762999995,
  "ymax": 366319.74344999983,
  "spatialReference": {
   "wkid": 103144,
   "latestWkid": 6568,
   "vcsWkid": 5703,
   "latestVcsWkid": 5703
  }
 },
 "sortableFields": "",
 "heightModelInfo": {
  "heightModel": "gravity_related_height",
  "vertCRS": "NAVD_1988",
  "heightUnit": "meter"
 },
 "bandCount": 1,
 "pixelType": "F32",
 "minValues": [
  -2.5160000324249268
 ],
 "maxValues": [
  -0.8399999737739563
 ],
 "meanValues": [
  -1.8693222966106775
 ],
 "stdvValues": [
  0.4833684377631681
 ],
 "hasMultidimensions": false,
 "pixelSizeX": 328.0799999999999,
 "pixelSizeY": 328.08,
 "meanPixelSize": 99.99898399796798,
 "datasetFormat": "FGDBR",
 "uncompressedSize": 3431232,
 "blockWidth": 128,
 "blockHeight": 128,
 "compressionType": "NONE",
 "bandNames": [
  "Band_1"
 ],
 "allowCopy": true,
 "allowAnalysis": true,
 "itemAccess": false,
 "inspectionCapabilities": "",
 "minPixelSize": 0,
 "maxPixelSize": 0,
 "copyrightText": "",
 "serviceDataType": "esriImageServiceDataTypeGeneric",
 "serviceSourceType": "esriImageServiceSourceTypeDataset",
 "objectIdField": "",
 "fields": [],
 "capabilities": "Image,Metadata,Mensuration",
 "defaultMosaicMethod": "Center",
 "allowedMosaicMethods": "",
 "sortField": "",
 "sortValue": null,
 "sortAscending": true,
 "mosaicOperator": "First",
 "defaultCompressionQuality": 75,
 "defaultResamplingMethod": "Bilinear",
 "maxImageHeight": 4100,
 "maxImageWidth": 15000,
 "allowRasterFunction": true,
 "rasterFunctionInfos": [
  {
   "name": "None",
   "description": "",
   "help": ""
  }
 ],
 "rasterTypeInfos": [
  {
   "name": "Raster Dataset",
   "description": "Supports all ArcGIS Raster Datasets",
   "help": ""
  }
 ],
 "mensurationCapabilities": "Basic",
 "hasHistograms": true,
 "hasColormap": false,
 "hasRasterAttributeTable": false,
 "minScale": 0,
 "maxScale": 0,
 "exportTilesAllowed": false,
 "supportsStatistics": false,
 "supportsAdvancedQueries": false,
 "editFieldsInfo": null,
 "ownershipBasedAccessControlForRasters": null,
 "allowComputeTiePoints": false,
 "useStandardizedQueries": true,
 "advancedQueryCapabilities": {
  "useStandardizedQueries": true,
  "supportsStatistics": false,
  "supportsOrderBy": false,
  "supportsDistinct": false,
  "supportsPagination": false
 },
 "spatialReference": {
  "wkid": 103144,
  "latestWkid": 6568,
  "vcsWkid": 5703,
  "latestVcsWkid": 5703
 }
}
