{
 "currentVersion": 11.3,
 "serviceDescription": "STORMTOOLS is a collection of tools designed specifically to map storm inundation along the Rhode Island coast, with and without sea level rise. Data products and reports are available at the STORMTOOLS website:(https://stormtools-mainpage-crc-uri.hub.arcgis.com/) As part of this work, STORMTOOLS models were used to generate new Base Flood Elevation (BFE), storm surge, wave crest height, and total water depth surfaces for Rhode Island's coastal waters. To avoid confusion with existing FEMA BFE maps, STORMTOOLS refers to these data as \"Stormtools Design Elevation\" (SDE) maps. \n\n\nThese data are served as a single mosaic that contains multiple raster datasets. To work as intended, the display must be \u201clocked\u201d to a specific Image ID limiting the display a single raster at any one time. \n\nImage ID # Data Content \n\n1 100yr Event Wave Crest Height; 0 feet Sea Level Rise (SLR) \n\n2 Including 2 feet SLR \n\n3 Including 3 feet SLR\n\n4 Including 5 feet SLR \n\n5 Including 7 feet SLR \n\n6 Including 10 feet SLR",
 "name": "Stormtools2020/Mosaic_100yr_SDE_WAVE_All",
 "description": "STORMTOOLS is a collection of tools designed specifically to map storm inundation along the Rhode Island coast, with and without sea level rise. Data products and reports are available at the STORMTOOLS website:(https://stormtools-mainpage-crc-uri.hub.arcgis.com/) As part of this work, STORMTOOLS models were used to generate new Base Flood Elevation (BFE), storm surge, wave crest height, and total water depth surfaces for Rhode Island's coastal waters. To avoid confusion with existing FEMA BFE maps, STORMTOOLS refers to these data as \"Stormtools Design Elevation\" (SDE) maps. \n\n\nThese data are served as a single mosaic that contains multiple raster datasets. To work as intended, the display must be \u201clocked\u201d to a specific Image ID limiting the display a single raster at any one time. \n\nImage ID # Data Content \n\n1 100yr Event Wave Crest Height; 0 feet Sea Level Rise (SLR) \n\n2 Including 2 feet SLR \n\n3 Including 3 feet SLR\n\n4 Including 5 feet SLR \n\n5 Including 7 feet SLR \n\n6 Including 10 feet SLR",
 "extent": {
  "xmin": -8003317.8049,
  "ymin": 5056831.313123877,
  "xmax": -7910241.750564211,
  "ymax": 5145218.415100001,
  "spatialReference": {
   "wkid": 102100,
   "latestWkid": 3857,
   "vcsWkid": 5703,
   "latestVcsWkid": 5703
  }
 },
 "initialExtent": {
  "xmin": -8003317.8049,
  "ymin": 5056831.313123877,
  "xmax": -7910241.750564211,
  "ymax": 5145218.415100001,
  "spatialReference": {
   "wkid": 102100,
   "latestWkid": 3857,
   "vcsWkid": 5703,
   "latestVcsWkid": 5703
  }
 },
 "fullExtent": {
  "xmin": -8003317.8049,
  "ymin": 5056831.313123877,
  "xmax": -7910241.750564211,
  "ymax": 5145218.415100001,
  "spatialReference": {
   "wkid": 102100,
   "latestWkid": 3857,
   "vcsWkid": 5703,
   "latestVcsWkid": 5703
  }
 },
 "sortableFields": "",
 "heightModelInfo": {
  "heightModel": "gravity_related_height",
  "vertCRS": "NAVD_1988",
  "heightUnit": "meter"
 },
 "bandCount": 1,
 "pixelType": "F32",
 "minValues": [
  0.01768994703888893
 ],
 "maxValues": [
  25.695066045969725
 ],
 "meanValues": [
  2.271245559943945
 ],
 "stdvValues": [
  2.5094192487267004
 ],
 "hasMultidimensions": false,
 "pixelSizeX": 0.9999898399796816,
 "pixelSizeY": 0.9999898399796764,
 "meanPixelSize": 0.9999898399796789,
 "datasetFormat": "AMD",
 "uncompressedSize": 32907559504,
 "blockWidth": 2048,
 "blockHeight": 256,
 "compressionType": "None",
 "bandNames": [
  "Band_1"
 ],
 "allowCopy": true,
 "allowAnalysis": true,
 "itemAccess": false,
 "inspectionCapabilities": "",
 "minPixelSize": 0,
 "maxPixelSize": 0,
 "copyrightText": "RI CRMC, URI OCE, URI EDC, URI CRC",
 "serviceDataType": "esriImageServiceDataTypeGeneric",
 "serviceSourceType": "esriImageServiceSourceTypeMosaicDataset",
 "objectIdField": "OBJECTID",
 "fields": [
  {
   "name": "OBJECTID",
   "type": "esriFieldTypeOID",
   "alias": "OBJECTID",
   "domain": null
  },
  {
   "name": "Shape",
   "type": "esriFieldTypeGeometry",
   "alias": "Shape",
   "domain": null
  },
  {
   "name": "Name",
   "type": "esriFieldTypeString",
   "alias": "Name",
   "domain": null,
   "length": 200
  },
  {
   "name": "MinPS",
   "type": "esriFieldTypeDouble",
   "alias": "MinPS",
   "domain": null
  },
  {
   "name": "MaxPS",
   "type": "esriFieldTypeDouble",
   "alias": "MaxPS",
   "domain": null
  },
  {
   "name": "LowPS",
   "type": "esriFieldTypeDouble",
   "alias": "LowPS",
   "domain": null
  },
  {
   "name": "HighPS",
   "type": "esriFieldTypeDouble",
   "alias": "HighPS",
   "domain": null
  },
  {
   "name": "Category",
   "type": "esriFieldTypeInteger",
   "alias": "Category",
   "domain": {
    "type": "codedValue",
    "name": "MosaicCatalogItemCategoryDomain",
    "description": "Catalog item categories.",
    "codedValues": [
     {
      "name": "Unknown",
      "code": 0
     },
     {
      "name": "Primary",
      "code": 1
     },
     {
      "name": "Overview",
      "code": 2
     },
     {
      "name": "Unprocessed Overview",
      "code": 3
     },
     {
      "name": "Partial Overview",
      "code": 4
     },
     {
      "name": "Inactive",
      "code": 5
     },
     {
      "name": "Uploaded",
      "code": 253
     },
     {
      "name": "Incomplete",
      "code": 254
     },
     {
      "name": "Custom",
      "code": 255
     }
    ],
    "mergePolicy": "esriMPTDefaultValue",
    "splitPolicy": "esriSPTDefaultValue"
   }
  },
  {
   "name": "Tag",
   "type": "esriFieldTypeString",
   "alias": "Tag",
   "domain": null,
   "length": 100
  },
  {
   "name": "GroupName",
   "type": "esriFieldTypeString",
   "alias": "GroupName",
   "domain": null,
   "length": 100
  },
  {
   "name": "ProductName",
   "type": "esriFieldTypeString",
   "alias": "ProductName",
   "domain": null,
   "length": 100
  },
  {
   "name": "CenterX",
   "type": "esriFieldTypeDouble",
   "alias": "CenterX",
   "domain": null
  },
  {
   "name": "CenterY",
   "type": "esriFieldTypeDouble",
   "alias": "CenterY",
   "domain": null
  },
  {
   "name": "ZOrder",
   "type": "esriFieldTypeInteger",
   "alias": "ZOrder",
   "domain": null
  },
  {
   "name": "Shape_Length",
   "type": "esriFieldTypeDouble",
   "alias": "Shape_Length",
   "domain": null
  },
  {
   "name": "Shape_Area",
   "type": "esriFieldTypeDouble",
   "alias": "Shape_Area",
   "domain": null
  }
 ],
 "capabilities": "Image,Metadata,Catalog",
 "defaultMosaicMethod": "None",
 "allowedMosaicMethods": "None,LockRaster",
 "mosaicOperator": "First",
 "maxDownloadSizeLimit": 2048,
 "defaultCompressionQuality": 90,
 "defaultResamplingMethod": "Bilinear",
 "maxImageHeight": 4100,
 "maxImageWidth": 15000,
 "maxRecordCount": 1000,
 "maxDownloadImageCount": 20,
 "maxMosaicImageCount": 20,
 "allowRasterFunction": true,
 "rasterFunctionInfos": [
  {
   "name": "None",
   "description": "A No-Op Function.",
   "help": ""
  },
  {
   "name": "Wave Height",
   "description": "Color ramp to display significant wave crest height.",
   "help": ""
  }
 ],
 "rasterTypeInfos": [
  {
   "name": "Raster Dataset",
   "description": "Supports all ArcGIS Raster Datasets",
   "help": ""
  }
 ],
 "mensurationCapabilities": "None",
 "hasHistograms": true,
 "hasColormap": false,
 "hasRasterAttributeTable": false,
 "minScale": 0,
 "maxScale": 0,
 "exportTilesAllowed": false,
 "supportsStatistics": true,
 "supportsAdvancedQueries": true,
 "editFieldsInfo": null,
 "ownershipBasedAccessControlForRasters": null,
 "allowComputeTiePoints": false,
 "useStandardizedQueries": true,
 "advancedQueryCapabilities": {
  "useStandardizedQueries": true,
  "supportsStatistics": true,
  "supportsOrderBy": true,
  "supportsDistinct": true,
  "supportsPagination": true
 },
 "spatialReference": {
  "wkid": 102100,
  "latestWkid": 3857,
  "vcsWkid": 5703,
  "latestVcsWkid": 5703
 }
}
