{
 "currentVersion": 11.3,
 "serviceDescription": "STORMTOOLS is a method to map storm inundation, with and without sea level rise, for varying return period storms that covers all of Rhode Island\u2019s coastal waters. Data products and reports are available at the STORMTOOLS website:(https://stormtools-mainpage-crc-uri.hub.arcgis.com/)\n\nPredictions are provided that show both flooding extent and depth for nuisance floods (1, 3, 5, and 10 year intervals) and the larger 25, 50, 100, and 500-year storm scenarios at the 95% confidence interval. Depending on the storm scenario, Sea level rise (SLR) of 1, 2, 3, 5,7, 10 feet are also modeled. Inundation maps are also provided for historical hurricanes including: 1938, 1954 (Carol), 1991 (Bob), and 2012 (Sandy).\n\nEach storm scenario (i.e. 100-year event) is served as a mosaic that contains multiple raster datasets. To work as intended, the display must be \u201clocked\u201d to a specific Image ID limiting the display a single raster at any one time.\n\nImage ID # Data Content\n1 3yr Event; 0 feet Sea Level Rise (SLR)\n2 Including 1 foot SLR\n3 Including 2 feet SLR\n4 Including 3 feet SLR\n5 Including 5 feet SLR\n6 Including 7 feet SLR\n7 Including 10 feet SLR",
 "name": "Stormtools2020/Mosaic_Merged_3yr_All",
 "description": "STORMTOOLS is a method to map storm inundation, with and without sea level rise, for varying return period storms that covers all of Rhode Island\u2019s coastal waters. Data products and reports are available at the STORMTOOLS website:(https://stormtools-mainpage-crc-uri.hub.arcgis.com/)\n\nPredictions are provided that show both flooding extent and depth for nuisance floods (1, 3, 5, and 10 year intervals) and the larger 25, 50, 100, and 500-year storm scenarios at the 95% confidence interval. Depending on the storm scenario, Sea level rise (SLR) of 1, 2, 3, 5,7, 10 feet are also modeled. Inundation maps are also provided for historical hurricanes including: 1938, 1954 (Carol), 1991 (Bob), and 2012 (Sandy).\n\nEach storm scenario (i.e. 100-year event) is served as a mosaic that contains multiple raster datasets. To work as intended, the display must be \u201clocked\u201d to a specific Image ID limiting the display a single raster at any one time.\n\nImage ID # Data Content\n1 3yr Event; 0 feet Sea Level Rise (SLR)\n2 Including 1 foot SLR\n3 Including 2 feet SLR\n4 Including 3 feet SLR\n5 Including 5 feet SLR\n6 Including 7 feet SLR\n7 Including 10 feet SLR",
 "extent": {
  "xmin": -8005577.6644,
  "ymin": 5031711.90180356,
  "xmax": -7907685.658994869,
  "ymax": 5147655.7238000035,
  "spatialReference": {
   "wkid": 102100,
   "latestWkid": 3857
  }
 },
 "initialExtent": {
  "xmin": -8005577.6644,
  "ymin": 5031711.90180356,
  "xmax": -7907685.658994869,
  "ymax": 5147655.7238000035,
  "spatialReference": {
   "wkid": 102100,
   "latestWkid": 3857
  }
 },
 "fullExtent": {
  "xmin": -8005577.6644,
  "ymin": 5031711.90180356,
  "xmax": -7907685.658994869,
  "ymax": 5147655.7238000035,
  "spatialReference": {
   "wkid": 102100,
   "latestWkid": 3857
  }
 },
 "sortableFields": "",
 "bandCount": 1,
 "pixelType": "F32",
 "minValues": [
  1.951171875
 ],
 "maxValues": [
  997.048828125
 ],
 "meanValues": [
  74.98281796769913
 ],
 "stdvValues": [
  251.65637288967207
 ],
 "hasMultidimensions": false,
 "pixelSizeX": 0.9999898399796798,
 "pixelSizeY": 0.9999898399796792,
 "meanPixelSize": 0.9999898399796795,
 "datasetFormat": "AMD",
 "uncompressedSize": 45400815540,
 "blockWidth": 2048,
 "blockHeight": 256,
 "compressionType": "None",
 "bandNames": [
  "Band_1"
 ],
 "allowCopy": true,
 "allowAnalysis": true,
 "itemAccess": false,
 "inspectionCapabilities": "",
 "minPixelSize": 0,
 "maxPixelSize": 0,
 "copyrightText": "RI CRMC, URI OCE, URI EDC, URI CRC",
 "serviceDataType": "esriImageServiceDataTypeGeneric",
 "serviceSourceType": "esriImageServiceSourceTypeMosaicDataset",
 "objectIdField": "OBJECTID",
 "fields": [
  {
   "name": "OBJECTID",
   "type": "esriFieldTypeOID",
   "alias": "OBJECTID",
   "domain": null
  },
  {
   "name": "Shape",
   "type": "esriFieldTypeGeometry",
   "alias": "Shape",
   "domain": null
  },
  {
   "name": "Name",
   "type": "esriFieldTypeString",
   "alias": "Name",
   "domain": null,
   "length": 200
  },
  {
   "name": "MinPS",
   "type": "esriFieldTypeDouble",
   "alias": "MinPS",
   "domain": null
  },
  {
   "name": "MaxPS",
   "type": "esriFieldTypeDouble",
   "alias": "MaxPS",
   "domain": null
  },
  {
   "name": "LowPS",
   "type": "esriFieldTypeDouble",
   "alias": "LowPS",
   "domain": null
  },
  {
   "name": "HighPS",
   "type": "esriFieldTypeDouble",
   "alias": "HighPS",
   "domain": null
  },
  {
   "name": "Category",
   "type": "esriFieldTypeInteger",
   "alias": "Category",
   "domain": {
    "type": "codedValue",
    "name": "MosaicCatalogItemCategoryDomain",
    "description": "Catalog item categories.",
    "codedValues": [
     {
      "name": "Unknown",
      "code": 0
     },
     {
      "name": "Primary",
      "code": 1
     },
     {
      "name": "Overview",
      "code": 2
     },
     {
      "name": "Unprocessed Overview",
      "code": 3
     },
     {
      "name": "Partial Overview",
      "code": 4
     },
     {
      "name": "Inactive",
      "code": 5
     },
     {
      "name": "Uploaded",
      "code": 253
     },
     {
      "name": "Incomplete",
      "code": 254
     },
     {
      "name": "Custom",
      "code": 255
     }
    ],
    "mergePolicy": "esriMPTDefaultValue",
    "splitPolicy": "esriSPTDefaultValue"
   }
  },
  {
   "name": "Tag",
   "type": "esriFieldTypeString",
   "alias": "Tag",
   "domain": null,
   "length": 100
  },
  {
   "name": "GroupName",
   "type": "esriFieldTypeString",
   "alias": "GroupName",
   "domain": null,
   "length": 100
  },
  {
   "name": "ProductName",
   "type": "esriFieldTypeString",
   "alias": "ProductName",
   "domain": null,
   "length": 100
  },
  {
   "name": "CenterX",
   "type": "esriFieldTypeDouble",
   "alias": "CenterX",
   "domain": null
  },
  {
   "name": "CenterY",
   "type": "esriFieldTypeDouble",
   "alias": "CenterY",
   "domain": null
  },
  {
   "name": "ZOrder",
   "type": "esriFieldTypeInteger",
   "alias": "ZOrder",
   "domain": null
  },
  {
   "name": "Shape_Length",
   "type": "esriFieldTypeDouble",
   "alias": "Shape_Length",
   "domain": null
  },
  {
   "name": "Shape_Area",
   "type": "esriFieldTypeDouble",
   "alias": "Shape_Area",
   "domain": null
  }
 ],
 "capabilities": "Image,Metadata,Catalog",
 "defaultMosaicMethod": "None",
 "allowedMosaicMethods": "None,LockRaster",
 "mosaicOperator": "First",
 "maxDownloadSizeLimit": 2048,
 "defaultCompressionQuality": 90,
 "defaultResamplingMethod": "Bilinear",
 "maxImageHeight": 4100,
 "maxImageWidth": 15000,
 "maxRecordCount": 1000,
 "maxDownloadImageCount": 20,
 "maxMosaicImageCount": 20,
 "allowRasterFunction": true,
 "rasterFunctionInfos": [
  {
   "name": "None",
   "description": "A No-Op Function.",
   "help": ""
  },
  {
   "name": "Inundation Including Lowlying Areas",
   "description": "Display showing inundation areas that includes adjacent lowlying areas",
   "help": ""
  },
  {
   "name": "Inundation Without Lowlying Areas",
   "description": "Display showing inundation areas not including adjacent lowlying areas",
   "help": ""
  },
  {
   "name": "Inundation Including Lowlying Areas HighVis",
   "description": "High visibility display showing inundation areas that includes adjacent lowlying areas",
   "help": ""
  },
  {
   "name": "Inundation Without Lowlying Areas HighViz",
   "description": "High visibility display showing inundation areas not including adjacent lowlying areas",
   "help": ""
  }
 ],
 "rasterTypeInfos": [
  {
   "name": "Raster Dataset",
   "description": "Supports all ArcGIS Raster Datasets",
   "help": ""
  }
 ],
 "mensurationCapabilities": "None",
 "hasHistograms": true,
 "hasColormap": false,
 "hasRasterAttributeTable": false,
 "minScale": 0,
 "maxScale": 0,
 "exportTilesAllowed": false,
 "supportsStatistics": true,
 "supportsAdvancedQueries": true,
 "editFieldsInfo": null,
 "ownershipBasedAccessControlForRasters": null,
 "allowComputeTiePoints": false,
 "useStandardizedQueries": true,
 "advancedQueryCapabilities": {
  "useStandardizedQueries": true,
  "supportsStatistics": true,
  "supportsOrderBy": true,
  "supportsDistinct": true,
  "supportsPagination": true
 },
 "spatialReference": {
  "wkid": 102100,
  "latestWkid": 3857
 }
}
