{
 "currentVersion": 11.3,
 "serviceDescription": "The vision for STORMTOOLS is to provide access to a suite of high-resolution coastal planning tools (numerical models, etc.) that can be used to develop policies and actions mitigating storm vulnerability. The STORMTOOLS inundation mapping effort represents the first step in the development of an integrated toolset that includes the development of simplified flood maps for varying storm return periods and sea level rise scenarios, incorporating the effects of both storm surge and tide. \n\nFollowing the NOAA Detailed Method for Mapping Sea Level Rise Inundation (2017) Mean Higher-High Water (MHHW) surfaces were developed for Narragansett Bay including the addition of 1, 2, 3, 5, 7, 10, and 12 feet of Sea Level Rise (SLR) using NOAA's VDatum (v4.01) (https://vdatum.noaa.gov/) approach to account for local and regional tidal variability. \n\nThese data are served as a mosaic that contains multiple raster datasets. To work as intended, the display must be \u201clocked\u201d to a specific Image ID limiting the display a single raster at any one time.\n\nImage ID # Data Content\n1 MHHW; 0 feet Sea Level Rise (SLR)\n2 Including 1 foot SLR\n3 Including 2 feet SLR\n4 Including 3 feet SLR\n5 Including 5 feet SLR\n6 Including 7 feet SLR\n7 Including 10 feet SLR\n8 Including 12 feet SLR\n\n",
 "name": "Stormtools2020/Mosaic_Merged_MHHW_All",
 "description": "The vision for STORMTOOLS is to provide access to a suite of high-resolution coastal planning tools (numerical models, etc.) that can be used to develop policies and actions mitigating storm vulnerability. The STORMTOOLS inundation mapping effort represents the first step in the development of an integrated toolset that includes the development of simplified flood maps for varying storm return periods and sea level rise scenarios, incorporating the effects of both storm surge and tide. \n\nFollowing the NOAA Detailed Method for Mapping Sea Level Rise Inundation (2017) Mean Higher-High Water (MHHW) surfaces were developed for Narragansett Bay including the addition of 1, 2, 3, 5, 7, 10, and 12 feet of Sea Level Rise (SLR) using NOAA's VDatum (v4.01) (https://vdatum.noaa.gov/) approach to account for local and regional tidal variability. \n\nThese data are served as a mosaic that contains multiple raster datasets. To work as intended, the display must be \u201clocked\u201d to a specific Image ID limiting the display a single raster at any one time.\n\nImage ID # Data Content\n1 MHHW; 0 feet Sea Level Rise (SLR)\n2 Including 1 foot SLR\n3 Including 2 feet SLR\n4 Including 3 feet SLR\n5 Including 5 feet SLR\n6 Including 7 feet SLR\n7 Including 10 feet SLR\n8 Including 12 feet SLR\n\n",
 "extent": {
  "xmin": -8005666.2926,
  "ymin": 5031708.2833078485,
  "xmax": -7906739.29771049,
  "ymax": 5165988.919,
  "spatialReference": {
   "wkid": 102100,
   "latestWkid": 3857
  }
 },
 "initialExtent": {
  "xmin": -8005666.2926,
  "ymin": 5031708.2833078485,
  "xmax": -7906739.29771049,
  "ymax": 5165988.919,
  "spatialReference": {
   "wkid": 102100,
   "latestWkid": 3857
  }
 },
 "fullExtent": {
  "xmin": -8005666.2926,
  "ymin": 5031708.2833078485,
  "xmax": -7906739.29771049,
  "ymax": 5165988.919,
  "spatialReference": {
   "wkid": 102100,
   "latestWkid": 3857
  }
 },
 "sortableFields": "",
 "bandCount": 1,
 "pixelType": "F32",
 "minValues": [
  -192.21294185519218
 ],
 "maxValues": [
  997.048828125
 ],
 "meanValues": [
  21.487176040155134
 ],
 "stdvValues": [
  196.10236078249812
 ],
 "hasMultidimensions": false,
 "pixelSizeX": 0.9999898399796808,
 "pixelSizeY": 0.999989839979679,
 "meanPixelSize": 0.9999898399796799,
 "datasetFormat": "AMD",
 "uncompressedSize": 53136998784,
 "blockWidth": 2048,
 "blockHeight": 256,
 "compressionType": "None",
 "bandNames": [
  "Band_1"
 ],
 "allowCopy": true,
 "allowAnalysis": true,
 "itemAccess": false,
 "inspectionCapabilities": "",
 "minPixelSize": 0,
 "maxPixelSize": 0,
 "copyrightText": "RI CRMC, URI OCE, URI EDC, URI CRC ",
 "serviceDataType": "esriImageServiceDataTypeGeneric",
 "serviceSourceType": "esriImageServiceSourceTypeMosaicDataset",
 "objectIdField": "OBJECTID",
 "fields": [
  {
   "name": "OBJECTID",
   "type": "esriFieldTypeOID",
   "alias": "OBJECTID",
   "domain": null
  },
  {
   "name": "Shape",
   "type": "esriFieldTypeGeometry",
   "alias": "Shape",
   "domain": null
  },
  {
   "name": "Name",
   "type": "esriFieldTypeString",
   "alias": "Name",
   "domain": null,
   "length": 200
  },
  {
   "name": "MinPS",
   "type": "esriFieldTypeDouble",
   "alias": "MinPS",
   "domain": null
  },
  {
   "name": "MaxPS",
   "type": "esriFieldTypeDouble",
   "alias": "MaxPS",
   "domain": null
  },
  {
   "name": "LowPS",
   "type": "esriFieldTypeDouble",
   "alias": "LowPS",
   "domain": null
  },
  {
   "name": "HighPS",
   "type": "esriFieldTypeDouble",
   "alias": "HighPS",
   "domain": null
  },
  {
   "name": "Category",
   "type": "esriFieldTypeInteger",
   "alias": "Category",
   "domain": {
    "type": "codedValue",
    "name": "MosaicCatalogItemCategoryDomain",
    "description": "Catalog item categories.",
    "codedValues": [
     {
      "name": "Unknown",
      "code": 0
     },
     {
      "name": "Primary",
      "code": 1
     },
     {
      "name": "Overview",
      "code": 2
     },
     {
      "name": "Unprocessed Overview",
      "code": 3
     },
     {
      "name": "Partial Overview",
      "code": 4
     },
     {
      "name": "Inactive",
      "code": 5
     },
     {
      "name": "Uploaded",
      "code": 253
     },
     {
      "name": "Incomplete",
      "code": 254
     },
     {
      "name": "Custom",
      "code": 255
     }
    ],
    "mergePolicy": "esriMPTDefaultValue",
    "splitPolicy": "esriSPTDefaultValue"
   }
  },
  {
   "name": "Tag",
   "type": "esriFieldTypeString",
   "alias": "Tag",
   "domain": null,
   "length": 100
  },
  {
   "name": "GroupName",
   "type": "esriFieldTypeString",
   "alias": "GroupName",
   "domain": null,
   "length": 100
  },
  {
   "name": "ProductName",
   "type": "esriFieldTypeString",
   "alias": "ProductName",
   "domain": null,
   "length": 100
  },
  {
   "name": "CenterX",
   "type": "esriFieldTypeDouble",
   "alias": "CenterX",
   "domain": null
  },
  {
   "name": "CenterY",
   "type": "esriFieldTypeDouble",
   "alias": "CenterY",
   "domain": null
  },
  {
   "name": "ZOrder",
   "type": "esriFieldTypeInteger",
   "alias": "ZOrder",
   "domain": null
  },
  {
   "name": "Shape_Length",
   "type": "esriFieldTypeDouble",
   "alias": "Shape_Length",
   "domain": null
  },
  {
   "name": "Shape_Area",
   "type": "esriFieldTypeDouble",
   "alias": "Shape_Area",
   "domain": null
  }
 ],
 "capabilities": "Image,Metadata,Catalog",
 "defaultMosaicMethod": "None",
 "allowedMosaicMethods": "None,LockRaster",
 "mosaicOperator": "First",
 "maxDownloadSizeLimit": 2048,
 "defaultCompressionQuality": 90,
 "defaultResamplingMethod": "Bilinear",
 "maxImageHeight": 4100,
 "maxImageWidth": 15000,
 "maxRecordCount": 1000,
 "maxDownloadImageCount": 20,
 "maxMosaicImageCount": 20,
 "allowRasterFunction": true,
 "rasterFunctionInfos": [
  {
   "name": "None",
   "description": "A No-Op Function.",
   "help": ""
  },
  {
   "name": "Inundation Without Adjacent Lowlying Areas",
   "description": "Inundation extent with adjacent lowlying areas removed from the display. Lowlying areas may or may not be flooded and require additional on-the-ground investigation to determine if hydro-connectivity exists.",
   "help": ""
  },
  {
   "name": "Inundation Including Adjacent Lowlying Areas",
   "description": "Inundation extent including adjacent lowlying areas. Lowlying areas may or may not be flooded and require additional on-the-ground investigation to determine if hydro-connectivity exists.",
   "help": ""
  },
  {
   "name": "MHHW Extent",
   "description": "Extent of MHHW",
   "help": ""
  },
  {
   "name": "Water Depth",
   "description": "Inundation with associated water depths",
   "help": ""
  },
  {
   "name": "FloodExtent MHHW Plus 1",
   "description": "Extent of water for MHHW plus 1' SLR",
   "help": ""
  },
  {
   "name": "FloodExtent MHHW Plus 2",
   "description": "Extent of water for MHHW plus 2' SLR",
   "help": ""
  },
  {
   "name": "FloodExtent MHHW Plus 3",
   "description": "Extent of water for MHHW plus 3' SLR",
   "help": ""
  },
  {
   "name": "FloodExtent MHHW Plus 5",
   "description": "Extent of water for MHHW plus 5' SLR",
   "help": ""
  },
  {
   "name": "FloodExtent MHHW Plus 7",
   "description": "Extent of water for MHHW plus 7' SLR",
   "help": ""
  },
  {
   "name": "FloodExtent MHHW Plus 10",
   "description": "Extent of water for MHHW plus 10' SLR",
   "help": ""
  },
  {
   "name": "FloodExtent MHHW Plus 12",
   "description": "Extent of water for MHHW plus 12' SLR",
   "help": ""
  }
 ],
 "rasterTypeInfos": [
  {
   "name": "Raster Dataset",
   "description": "Supports all ArcGIS Raster Datasets",
   "help": ""
  }
 ],
 "mensurationCapabilities": "None",
 "hasHistograms": true,
 "hasColormap": false,
 "hasRasterAttributeTable": false,
 "minScale": 0,
 "maxScale": 0,
 "exportTilesAllowed": false,
 "supportsStatistics": true,
 "supportsAdvancedQueries": true,
 "editFieldsInfo": null,
 "ownershipBasedAccessControlForRasters": null,
 "allowComputeTiePoints": false,
 "useStandardizedQueries": true,
 "advancedQueryCapabilities": {
  "useStandardizedQueries": true,
  "supportsStatistics": true,
  "supportsOrderBy": true,
  "supportsDistinct": true,
  "supportsPagination": true
 },
 "spatialReference": {
  "wkid": 102100,
  "latestWkid": 3857
 }
}
