{
 "currentVersion": 11.3,
 "serviceDescription": "Stormtools_Inland/Moshassuck_Pro50_Q500_Depth",
 "name": "Stormtools_Inland/Moshassuck_Pro50_Q500_Depth",
 "description": "",
 "extent": {
  "xmin": 335857.74173750274,
  "ymin": 268369.3742012945,
  "xmax": 355931.58090750274,
  "ymax": 310186.8474812945,
  "spatialReference": {
   "wkid": 102730,
   "latestWkid": 3438
  }
 },
 "initialExtent": {
  "xmin": 335857.74173750274,
  "ymin": 268369.3742012945,
  "xmax": 355931.58090750274,
  "ymax": 310186.8474812945,
  "spatialReference": {
   "wkid": 102730,
   "latestWkid": 3438
  }
 },
 "fullExtent": {
  "xmin": 335857.74173750274,
  "ymin": 268369.3742012945,
  "xmax": 355931.58090750274,
  "ymax": 310186.8474812945,
  "spatialReference": {
   "wkid": 102730,
   "latestWkid": 3438
  }
 },
 "sortableFields": "",
 "bandCount": 1,
 "pixelType": "F32",
 "minValues": [
  9.9945068359375E-4
 ],
 "maxValues": [
  22.105262756347656
 ],
 "meanValues": [
  5.2463473336433015
 ],
 "stdvValues": [
  4.248500677768591
 ],
 "hasMultidimensions": false,
 "pixelSizeX": 3.299989999999999,
 "pixelSizeY": 3.299989999999998,
 "meanPixelSize": 1.005838963677927,
 "datasetFormat": "FGDBR",
 "uncompressedSize": 308335104,
 "blockWidth": 128,
 "blockHeight": 128,
 "compressionType": "LZ77",
 "bandNames": [
  "Band_1"
 ],
 "allowCopy": false,
 "allowAnalysis": false,
 "itemAccess": false,
 "inspectionCapabilities": "",
 "minPixelSize": 0,
 "maxPixelSize": 0,
 "copyrightText": "",
 "serviceDataType": "esriImageServiceDataTypeGeneric",
 "serviceSourceType": "esriImageServiceSourceTypeDataset",
 "objectIdField": "",
 "fields": [],
 "capabilities": "Image,Metadata,Pixels,Mensuration",
 "defaultMosaicMethod": "Center",
 "allowedMosaicMethods": "",
 "sortField": "",
 "sortValue": null,
 "sortAscending": true,
 "mosaicOperator": "First",
 "defaultCompressionQuality": 90,
 "defaultResamplingMethod": "Bilinear",
 "maxImageHeight": 4100,
 "maxImageWidth": 15000,
 "allowRasterFunction": true,
 "rasterFunctionInfos": [
  {
   "name": "Total Water Depth",
   "description": "Color ramp to display the total water depth above grade(Surge + Tide).",
   "help": ""
  },
  {
   "name": "None",
   "description": "",
   "help": ""
  }
 ],
 "rasterTypeInfos": [
  {
   "name": "Raster Dataset",
   "description": "Supports all ArcGIS Raster Datasets",
   "help": ""
  }
 ],
 "mensurationCapabilities": "Basic",
 "hasHistograms": true,
 "hasColormap": false,
 "hasRasterAttributeTable": false,
 "minScale": 0,
 "maxScale": 0,
 "exportTilesAllowed": false,
 "supportsStatistics": false,
 "supportsAdvancedQueries": false,
 "editFieldsInfo": null,
 "ownershipBasedAccessControlForRasters": null,
 "allowComputeTiePoints": false,
 "useStandardizedQueries": true,
 "advancedQueryCapabilities": {
  "useStandardizedQueries": true,
  "supportsStatistics": false,
  "supportsOrderBy": false,
  "supportsDistinct": false,
  "supportsPagination": false
 },
 "spatialReference": {
  "wkid": 102730,
  "latestWkid": 3438
 }
}
