{
 "currentVersion": 11.3,
 "serviceDescription": "Stormtools_Inland/Woonasquatucket_Pro50_Q100_Depth",
 "name": "Stormtools_Inland/Woonasquatucket_Pro50_Q100_Depth",
 "description": "",
 "extent": {
  "xmin": 312543.61389840225,
  "ymin": 263586.9600997071,
  "xmax": 357779.87681840226,
  "ymax": 312176.0128597071,
  "spatialReference": {
   "wkid": 102730,
   "latestWkid": 3438
  }
 },
 "initialExtent": {
  "xmin": 312543.61389840225,
  "ymin": 263586.9600997071,
  "xmax": 357779.87681840226,
  "ymax": 312176.0128597071,
  "spatialReference": {
   "wkid": 102730,
   "latestWkid": 3438
  }
 },
 "fullExtent": {
  "xmin": 312543.61389840225,
  "ymin": 263586.9600997071,
  "xmax": 357779.87681840226,
  "ymax": 312176.0128597071,
  "spatialReference": {
   "wkid": 102730,
   "latestWkid": 3438
  }
 },
 "sortableFields": "",
 "bandCount": 1,
 "pixelType": "F32",
 "minValues": [
  9.9945068359375E-4
 ],
 "maxValues": [
  29.553421020507812
 ],
 "meanValues": [
  3.4147956588303003
 ],
 "stdvValues": [
  1.866921516347762
 ],
 "hasMultidimensions": false,
 "pixelSizeX": 3.2999900000000006,
 "pixelSizeY": 3.2999899999999993,
 "meanPixelSize": 1.0058389636779275,
 "datasetFormat": "FGDBR",
 "uncompressedSize": 807346368,
 "blockWidth": 128,
 "blockHeight": 128,
 "compressionType": "LZ77",
 "bandNames": [
  "Band_1"
 ],
 "allowCopy": false,
 "allowAnalysis": false,
 "itemAccess": false,
 "inspectionCapabilities": "",
 "minPixelSize": 0,
 "maxPixelSize": 0,
 "copyrightText": "",
 "serviceDataType": "esriImageServiceDataTypeGeneric",
 "serviceSourceType": "esriImageServiceSourceTypeDataset",
 "objectIdField": "",
 "fields": [],
 "capabilities": "Image,Metadata,Pixels,Mensuration",
 "defaultMosaicMethod": "Center",
 "allowedMosaicMethods": "",
 "sortField": "",
 "sortValue": null,
 "sortAscending": true,
 "mosaicOperator": "First",
 "defaultCompressionQuality": 90,
 "defaultResamplingMethod": "Bilinear",
 "maxImageHeight": 4100,
 "maxImageWidth": 15000,
 "allowRasterFunction": true,
 "rasterFunctionInfos": [
  {
   "name": "Total Water Depth",
   "description": "Color ramp to display the total water depth above grade(Surge + Tide).",
   "help": ""
  },
  {
   "name": "None",
   "description": "",
   "help": ""
  }
 ],
 "rasterTypeInfos": [
  {
   "name": "Raster Dataset",
   "description": "Supports all ArcGIS Raster Datasets",
   "help": ""
  }
 ],
 "mensurationCapabilities": "Basic",
 "hasHistograms": true,
 "hasColormap": false,
 "hasRasterAttributeTable": false,
 "minScale": 0,
 "maxScale": 0,
 "exportTilesAllowed": false,
 "supportsStatistics": false,
 "supportsAdvancedQueries": false,
 "editFieldsInfo": null,
 "ownershipBasedAccessControlForRasters": null,
 "allowComputeTiePoints": false,
 "useStandardizedQueries": true,
 "advancedQueryCapabilities": {
  "useStandardizedQueries": true,
  "supportsStatistics": false,
  "supportsOrderBy": false,
  "supportsDistinct": false,
  "supportsPagination": false
 },
 "spatialReference": {
  "wkid": 102730,
  "latestWkid": 3438
 }
}
