View In:
ArcGIS JavaScript
ArcGIS Online Map Viewer
ArcGIS Earth
ArcGIS Pro
Service Description: This map service consists of forest habitat represented by the dataset of the same title available from the Rhode Island Geographic Information System (RIGIS) consortium (http://www.edc.uri.edu/rigis). Source data range from circa 1988 to 2012. Details of these data may be found in this dataset's metadata record available from RIGIS.
This map service is published by the University of Rhode Island Environmental Data Center as part of its Rhode Island Digital Atlas initiative (http://www.edc.uri.edu/atlas). Please review the terms and conditions associated with this map service at http://www.edc.uri.edu/atlas/about/terms.html before accessing and/or using this service.
Map Name: Layers
Legend
All Layers and Tables
Layers:
Description:
Copyright Text: RIGIS, University of Rhode Island Environmental Data Center (URIEDC)
Spatial Reference:
102100
(3857)
Single Fused Map Cache: true
Tile Info:
- Height: 256
- Width: 256
- DPI: 96
-
Levels of Detail: 20
-
Level ID: 0
[ Start Tile, End Tile ]
- Resolution: 156543.03392800014
- Scale: 5.91657527591555E8
-
Level ID: 1
[ Start Tile, End Tile ]
- Resolution: 78271.51696399994
- Scale: 2.95828763795777E8
-
Level ID: 2
[ Start Tile, End Tile ]
- Resolution: 39135.75848200009
- Scale: 1.47914381897889E8
-
Level ID: 3
[ Start Tile, End Tile ]
- Resolution: 19567.87924099992
- Scale: 7.3957190948944E7
-
Level ID: 4
[ Start Tile, End Tile ]
- Resolution: 9783.93962049996
- Scale: 3.6978595474472E7
-
Level ID: 5
[ Start Tile, End Tile ]
- Resolution: 4891.96981024998
- Scale: 1.8489297737236E7
- Format: PNG
- Compression Quality: 0.0
- Origin: X: -2.0037508342787E7
Y: 2.0037508342787E7
- Spatial Reference: 102100
(3857)
Storage Info:
- Storage Format: esriMapCacheStorageModeCompactV2
- Packet Size: 128
Initial Extent:
XMin: -8052464.713744728
YMin: 5027440.260653507
XMax: -7867531.112457011
YMax: 5171327.84460495
Spatial Reference: 102100
Full Extent:
XMin: -8003810.8595
YMin: 5033983.725299999
XMax: -7916060.941500001
YMax: 5164874.134400003
Spatial Reference: 102100
Units: esriMeters
Supported Image Format Types: PNG32,PNG24,PNG,JPG,DIB,TIFF,EMF,PS,PDF,GIF,SVG,SVGZ,BMP
Document Info:
Title: Rhode Island Forest Habitat
Author:
Comments: This map service consists of forest habitat represented by the dataset of the same title available from the Rhode Island Geographic Information System (RIGIS) consortium (http://www.edc.uri.edu/rigis). Source data range from circa 1988 to 2012. Details of these data may be found in this dataset's metadata record available from RIGIS.
This map service is published by the University of Rhode Island Environmental Data Center as part of its Rhode Island Digital Atlas initiative (http://www.edc.uri.edu/atlas). Please review the terms and conditions associated with this map service at http://www.edc.uri.edu/atlas/about/terms.html before accessing and/or using this service.
Subject: Rhode Island Forest Habitat as represented by a combination of several datasets and additional interpretation.
Category:
Keywords: forest,habitat,forest habitat,biota,RhodeIsland,RI,RhodeIslandDigitalAtlas,RIGIS,URIEDC
AntialiasingMode: Best
TextAntialiasingMode: Force
Supports Dynamic Layers: false
MaxRecordCount: 1000
MaxImageHeight: 2048
MaxImageWidth: 2048
Supported Query Formats: JSON, geoJSON, PBF
Supports Query Data Elements: true
Min Scale: 5.91657527591555E8
Max Scale: 1128.497176
Supports Datum Transformation: true
Child Resources:
Info
Supported Operations:
Export Map
Identify
QueryLegends
QueryDomains
Find
Return Updates
Generate KML