View In:
ArcGIS JavaScript
ArcGIS Online Map Viewer
ArcGIS Earth
ArcGIS Pro
Service Description: A generalized map showing approximate locations of coastal and inland wetlands in Rhode Island. These data were selected from the Wetlands dataset available from the Rhode Island Geographic Information System (RIGIS) consortium (http://www.edc.uri.edu/rigis). Data circa 1988.
This map service is published by the University of Rhode Island Environmental Data Center as part of its Rhode Island Digital Atlas initiative (http://www.edc.uri.edu/atlas). Please review the terms and conditions associated with this map service at http://www.edc.uri.edu/atlas/about/terms.html before accessing and/or using this service.
Map Name: Layers
Legend
All Layers and Tables
Layers:
Description:
Copyright Text: RIGIS, University of Rhode Island Environmental Data Center (URIEDC), Rhode Island Department of Environmental Management (RIDEM)
Spatial Reference:
102100
(3857)
LatestVCSWkid(0)
Single Fused Map Cache: true
Tile Info:
- Height: 256
- Width: 256
- DPI: 96
-
Levels of Detail: 20
-
Level ID: 0
[ Start Tile, End Tile ]
- Resolution: 156543.03392800014
- Scale: 5.91657527591555E8
-
Level ID: 1
[ Start Tile, End Tile ]
- Resolution: 78271.51696399994
- Scale: 2.95828763795777E8
-
Level ID: 2
[ Start Tile, End Tile ]
- Resolution: 39135.75848200009
- Scale: 1.47914381897889E8
-
Level ID: 3
[ Start Tile, End Tile ]
- Resolution: 19567.87924099992
- Scale: 7.3957190948944E7
-
Level ID: 4
[ Start Tile, End Tile ]
- Resolution: 9783.93962049996
- Scale: 3.6978595474472E7
-
Level ID: 5
[ Start Tile, End Tile ]
- Resolution: 4891.96981024998
- Scale: 1.8489297737236E7
- Format: PNG
- Compression Quality: 0.0
- Origin: X: -2.0037508342787E7
Y: 2.0037508342787E7
- Spatial Reference: 102100
(3857)
LatestVCSWkid(0)
Storage Info:
- Storage Format: esriMapCacheStorageModeCompactV2
- Packet Size: 128
Initial Extent:
XMin: -8042515.961036697
YMin: 5035324.5465189265
XMax: -7879275.415363304
YMax: 5162333.849081076
Spatial Reference: 102100
(0)
LatestVCSWkid(0)
Full Extent:
XMin: -8004693.0876
YMin: 5033850.019000001
XMax: -7917098.288799999
YMax: 5163808.376599997
Spatial Reference: 102100
(0)
LatestVCSWkid(0)
Units: esriMeters
Supported Image Format Types: PNG32,PNG24,PNG,JPG,DIB,TIFF,EMF,PS,PDF,GIF,SVG,SVGZ,BMP
Document Info:
Title: Rhode Island Wetlands
Author:
Comments: A generalized map showing approximate locations of coastal and inland wetlands in Rhode Island. These data were selected from the Wetlands dataset available from the Rhode Island Geographic Information System (RIGIS) consortium (http://www.edc.uri.edu/rigis). Data circa 1988.
This map service is published by the University of Rhode Island Environmental Data Center as part of its Rhode Island Digital Atlas initiative (http://www.edc.uri.edu/atlas). Please review the terms and conditions associated with this map service at http://www.edc.uri.edu/atlas/about/terms.html before accessing and/or using this service.
Subject: Generalized coastal and inland wetlands as represented by the Wetlands RIGIS dataset.
Category:
Keywords: biota,RhodeIsland,RhodeIslandDigitalAtlas,RIGIS,URIEDC,RIDEM
AntialiasingMode: Best
TextAntialiasingMode: Force
Supports Dynamic Layers: false
MaxRecordCount: 1000
MaxImageHeight: 2048
MaxImageWidth: 2048
Supported Query Formats: JSON, geoJSON, PBF
Supports Query Data Elements: true
Min Scale: 5.91657527591555E8
Max Scale: 1128.497176
Supports Datum Transformation: true
Child Resources:
Info
Supported Operations:
Export Map
Identify
QueryLegends
QueryDomains
Find
Return Updates
Generate KML