View In:
ArcGIS JavaScript
ArcGIS Online Map Viewer
ArcGIS Earth
ArcGIS Pro
Service Description: This map service is provided to the general public under the provisions of a Creative Commons Attribution-ShareAlike 3.0 United States License. Please direct any questions regarding contents or appropriate usage of this map service to Greg Bonynge (greg@edc.uri.edu).
Map Name: Layers
Legend
All Layers and Tables
Layers:
Description:
Copyright Text: RIGIS, University of Rhode Island Environmental Data Center
Spatial Reference:
102100
(3857)
LatestVCSWkid(0)
Single Fused Map Cache: true
Tile Info:
- Height: 256.0
- Width: 256.0
- DPI: 96.0
-
Levels of Detail: 20
-
Level ID: 0
[ Start Tile, End Tile ]
- Resolution: 156543.03392800014
- Scale: 5.91657527591555E8
-
Level ID: 1
[ Start Tile, End Tile ]
- Resolution: 78271.51696399994
- Scale: 2.95828763795777E8
-
Level ID: 2
[ Start Tile, End Tile ]
- Resolution: 39135.75848200009
- Scale: 1.47914381897889E8
-
Level ID: 3
[ Start Tile, End Tile ]
- Resolution: 19567.87924099992
- Scale: 7.3957190948944E7
-
Level ID: 4
[ Start Tile, End Tile ]
- Resolution: 9783.93962049996
- Scale: 3.6978595474472E7
-
Level ID: 5
[ Start Tile, End Tile ]
- Resolution: 4891.96981024998
- Scale: 1.8489297737236E7
- Format: PNG
- Compression Quality: 0.0
- Origin: X: -2.0037508342787E7
Y: 2.0037508342787E7
- Spatial Reference: 102100
(3857)
LatestVCSWkid(0)
Storage Info:
- Storage Format: esriMapCacheStorageModeCompactV2
- Packet Size: 128
Initial Extent:
XMin: -8038673.212616528
YMin: 5038788.567209211
XMax: -7880370.189983468
YMax: 5161956.230090789
Spatial Reference: 102100
(0)
LatestVCSWkid(0)
Full Extent:
XMin: -7999083.5132
YMin: 5037358.639600001
XMax: -7919959.8894
YMax: 5163386.157700002
Spatial Reference: 102100
(0)
LatestVCSWkid(0)
Units: esriMeters
Supported Image Format Types: PNG32,PNG24,PNG,JPG,DIB,TIFF,EMF,PS,PDF,GIF,SVG,SVGZ,BMP
Document Info:
Title: Rhode Island Digital Atlas
Author:
Comments: This map service is provided to the general public under the provisions of a Creative Commons Attribution-ShareAlike 3.0 United States License. Please direct any questions regarding contents or appropriate usage of this map service to Greg Bonynge (greg@edc.uri.edu).
Subject:
Category:
Keywords: RhodeIsland,RhodeIslandDigitalAtlas,RIGIS,URIEDC
AntialiasingMode: Best
TextAntialiasingMode: Force
Supports Dynamic Layers: false
MaxRecordCount: 1000
MaxImageHeight: 2048
MaxImageWidth: 2048
Supported Query Formats: JSON, geoJSON, PBF
Supports Query Data Elements: true
Min Scale: 2311162.217155
Max Scale: 1128.497176
Supports Datum Transformation: true
Child Resources:
Info
Supported Operations:
Export Map
Identify
QueryLegends
QueryDomains
Find
Return Updates
Generate KML