View In:
  ArcGIS JavaScript
  ArcGIS Online Map Viewer
  ArcGIS Earth
Service Description:  Atlas_imageryBaseMapsEarthCover/2012_eelgrass
Name:  Atlas_imageryBaseMapsEarthCover/2012_eelgrass
Description:  
Single Fused Map Cache:  false
Extent: 
XMin: -8011333.3522
YMin: 5024621.21579906
XMax: -7907674.810162916
YMax: 5140851.685699999
Spatial Reference: 102100
 (3857)
 LatestVCSWkid(0)
Initial Extent: 
XMin: -8011333.3522
YMin: 5024621.21579906
XMax: -7907674.810162916
YMax: 5140851.685699999
Spatial Reference: 102100
 (3857)
 LatestVCSWkid(0)
Full Extent: 
XMin: -8011333.3522
YMin: 5024621.21579906
XMax: -7907674.810162916
YMax: 5140851.685699999
Spatial Reference: 102100
 (3857)
 LatestVCSWkid(0)
Pixel Size X:  0.48768097536194926
Pixel Size Y:  0.48768097536194993
Band Count: 4
Pixel Type: U8
RasterFunction Infos:  {"rasterFunctionInfos": [{
 "name": "None",
 "description": "",
 "help": ""
}]}
Mensuration Capabilities: None,Basic
Inspection Capabilities: 
Has Histograms:  true
Has Colormap:  false
Has Multi Dimensions :  false
Rendering Rule: 
Min Scale:  0
Max Scale:  0
Copyright Text:  RIGIS, University of Rhode Island Environmental Data Center (URIEDC), Rhode Island Eelgrass Task Force
Service Data Type:  esriImageServiceDataTypeProcessed
Min Values:  0, 3, 3, 3
Max Values:  255, 255, 255, 255
Mean Values:  72.29946672323587, 103.92750670534096, 115.89338875435033, 115.89338875435033
Standard Deviation Values:  34.7549084504054, 30.91701111791153, 30.243806799891793, 30.243806799891793
Object ID Field:  OBJECTID
Fields: 
- 
OBJECTID
(
type: esriFieldTypeOID, alias: OBJECTID
)
 
- 
Shape
(
type: esriFieldTypeGeometry, alias: Shape
)
 
- 
Name
(
type: esriFieldTypeString, alias: Name, length: 50
)
 
- 
MinPS
(
type: esriFieldTypeDouble, alias: MinPS
)
 
- 
MaxPS
(
type: esriFieldTypeDouble, alias: MaxPS
)
 
- 
LowPS
(
type: esriFieldTypeDouble, alias: LowPS
)
 
- 
HighPS
(
type: esriFieldTypeDouble, alias: HighPS
)
 
- 
Category
(
type: esriFieldTypeInteger, alias: Category
, Coded Values: 
[0: Unknown]
, [1: Primary]
, [2: Overview]
, ...5 more...
)
 
- 
Tag
(
type: esriFieldTypeString, alias: Tag, length: 20
)
 
- 
GroupName
(
type: esriFieldTypeString, alias: GroupName, length: 50
)
 
- 
ProductName
(
type: esriFieldTypeString, alias: ProductName, length: 50
)
 
- 
CenterX
(
type: esriFieldTypeDouble, alias: CenterX
)
 
- 
CenterY
(
type: esriFieldTypeDouble, alias: CenterY
)
 
- 
ZOrder
(
type: esriFieldTypeInteger, alias: ZOrder
)
 
- 
Shape_Length
(
type: esriFieldTypeDouble, alias: Shape_Length
)
 
- 
Shape_Area
(
type: esriFieldTypeDouble, alias: Shape_Area
)
 
Default Mosaic Method:  Northwest
Allowed Mosaic Methods:  NorthWest,Center,LockRaster,ByAttribute,Nadir,Viewpoint,Seamline,None
SortField:  
SortValue:  null
Mosaic Operator:  First
Default Compression Quality:  75
Default Resampling Method:  Bilinear
Max Record Count:  1000
Max Image Height:  4100
Max Image Width:  15000
Max Download Image Count:  20
Max Mosaic Image Count:  20
Allow Raster Function:  true
Allow Copy:  true
Allow Analysis:  true
Allow Compute TiePoints:  false
Supports Statistics:  true
Supports Advanced Queries:  true
Use StandardizedQueries:  true
Raster Type Infos: 
Name: Raster Dataset
Description: Supports all ArcGIS Raster Datasets
Help: 
Has Raster Attribute Table:  false
Edit Fields Info:  null
Ownership Based AccessControl For Rasters:  null
Child Resources:
  
Info
  Histograms
  Statistics
  Key Properties
  Legend
  Raster Function Infos
Supported Operations:
  
Export Image
  Query
  Identify
  Measure
  Compute Histograms
  Compute Statistics Histograms
  Get Samples
  Compute Class Statistics
  Query GPS Info
  Find Images
  Image to Map
  Map to Image
  Measure from Image
  Image to Map Multiray
  Query Boundary
  Compute Pixel Location
  Compute Angles
  Validate
  Project