View In:
  ArcGIS JavaScript
  ArcGIS Online Map Viewer
  ArcGIS Earth
Service Description:  Atlas_imageryBaseMapsEarthCover/2014_USGS
Name:  Atlas_imageryBaseMapsEarthCover/2014_USGS
Description:  
Single Fused Map Cache:  false
Extent: 
XMin: -8003151.0283
YMin: 5030715.090426236
XMax: -7913838.96327587
YMax: 5167551.971299998
Spatial Reference: 102100
 (3857)
 LatestVCSWkid(0)
Initial Extent: 
XMin: -8003151.0283
YMin: 5030715.090426236
XMax: -7913838.96327587
YMax: 5167551.971299998
Spatial Reference: 102100
 (3857)
 LatestVCSWkid(0)
Full Extent: 
XMin: -8003151.0283
YMin: 5030715.090426236
XMax: -7913838.96327587
YMax: 5167551.971299998
Spatial Reference: 102100
 (3857)
 LatestVCSWkid(0)
Pixel Size X:  0.3048006096012192
Pixel Size Y:  0.3048006096012199
Band Count: 4
Pixel Type: U8
RasterFunction Infos:  {"rasterFunctionInfos": [{
 "name": "None",
 "description": "",
 "help": ""
}]}
Mensuration Capabilities: None
Inspection Capabilities: 
Has Histograms:  true
Has Colormap:  false
Has Multi Dimensions :  false
Rendering Rule: 
Min Scale:  0
Max Scale:  0
Copyright Text:  
Service Data Type:  esriImageServiceDataTypeProcessed
Min Values:  14, 19, 29, 1
Max Values:  253, 253, 251, 223
Mean Values:  88.48760817968672, 95.59739789863453, 88.71419216185792, 85.2839752959547
Standard Deviation Values:  33.80732653514645, 27.698565149711616, 23.562244262439037, 35.50854302876658
Object ID Field:  OBJECTID
Fields: 
- 
OBJECTID
(
type: esriFieldTypeOID, alias: OBJECTID
)
 
- 
Shape
(
type: esriFieldTypeGeometry, alias: Shape
)
 
- 
Name
(
type: esriFieldTypeString, alias: Name, length: 200
)
 
- 
MinPS
(
type: esriFieldTypeDouble, alias: MinPS
)
 
- 
MaxPS
(
type: esriFieldTypeDouble, alias: MaxPS
)
 
- 
LowPS
(
type: esriFieldTypeDouble, alias: LowPS
)
 
- 
HighPS
(
type: esriFieldTypeDouble, alias: HighPS
)
 
- 
Category
(
type: esriFieldTypeInteger, alias: Category
, Coded Values: 
[0: Unknown]
, [1: Primary]
, [2: Overview]
, ...6 more...
)
 
- 
Tag
(
type: esriFieldTypeString, alias: Tag, length: 100
)
 
- 
GroupName
(
type: esriFieldTypeString, alias: GroupName, length: 100
)
 
- 
ProductName
(
type: esriFieldTypeString, alias: ProductName, length: 100
)
 
- 
CenterX
(
type: esriFieldTypeDouble, alias: CenterX
)
 
- 
CenterY
(
type: esriFieldTypeDouble, alias: CenterY
)
 
- 
ZOrder
(
type: esriFieldTypeInteger, alias: ZOrder
)
 
- 
Shape_Length
(
type: esriFieldTypeDouble, alias: Shape_Length
)
 
- 
Shape_Area
(
type: esriFieldTypeDouble, alias: Shape_Area
)
 
Default Mosaic Method:  Center
Allowed Mosaic Methods:  Center,NorthWest,LockRaster,ByAttribute,Nadir,Viewpoint,Seamline,None
SortField:  
SortValue:  null
Mosaic Operator:  First
Default Compression Quality:  75
Default Resampling Method:  Bilinear
Max Record Count:  1000
Max Image Height:  4100
Max Image Width:  15000
Max Download Image Count:  20
Max Mosaic Image Count:  20
Allow Raster Function:  true
Allow Copy:  true
Allow Analysis:  true
Allow Compute TiePoints:  false
Supports Statistics:  true
Supports Advanced Queries:  true
Use StandardizedQueries:  true
Raster Type Infos: 
Name: Raster Dataset
Description: Supports all ArcGIS Raster Datasets
Help: 
Has Raster Attribute Table:  false
Edit Fields Info:  null
Ownership Based AccessControl For Rasters:  null
Child Resources:
  
Info
  Histograms
  Statistics
  Key Properties
  Legend
  Raster Function Infos
Supported Operations:
  
Export Image
  Query
  Identify
  Download Rasters
  Get Image Url
  Compute Histograms
  Compute Statistics Histograms
  Get Samples
  Compute Class Statistics
  Query GPS Info
  Find Images
  Image to Map
  Map to Image
  Measure from Image
  Image to Map Multiray
  Query Boundary
  Compute Pixel Location
  Compute Angles
  Validate
  Project