View In:
ArcGIS JavaScript
ArcGIS Online Map Viewer
ArcGIS Earth
ArcGIS Pro
Service Description: This work sought to compile the best-available elevation and bathymetry data for the state, then construct a new, continuous topographic/bathymetric digital elevation model (DEM). These combined data would generate a much more useful picture of the coastal environment, allowing for better coastal hazards planning along with the more traditional upland uses. In addition to the DEM both a hillshade and 2, 5, and 10-foot contour datasets were developed. These products are in high demand for effective visualization and analysis, and create a complete elevation product package for the state that can then be used for evaluating coastal hazards.
This map service is provided to the general public under the provisions of a Creative Commons Attribution-ShareAlike 3.0 United States License. Please direct any questions regarding contents or appropriate usage of this map service to Greg Bonynge (greg@edc.uri.edu).
Map Name: Sea Level Rise Scenarios
Legend
All Layers and Tables
Layers:
Description:
Copyright Text: Rhode Island Sea Grant; University of Rhode Island Environmental Data Center (URIEDC); RI Division of Planning; RI CRMC
Spatial Reference:
102100
(3857)
LatestVCSWkid(0)
Single Fused Map Cache: true
Tile Info:
- Height: 256.0
- Width: 256.0
- DPI: 96.0
-
Levels of Detail: 20
-
Level ID: 0
[ Start Tile, End Tile ]
- Resolution: 156543.03392800014
- Scale: 5.91657527591555E8
-
Level ID: 1
[ Start Tile, End Tile ]
- Resolution: 78271.51696399994
- Scale: 2.95828763795777E8
-
Level ID: 2
[ Start Tile, End Tile ]
- Resolution: 39135.75848200009
- Scale: 1.47914381897889E8
-
Level ID: 3
[ Start Tile, End Tile ]
- Resolution: 19567.87924099992
- Scale: 7.3957190948944E7
-
Level ID: 4
[ Start Tile, End Tile ]
- Resolution: 9783.93962049996
- Scale: 3.6978595474472E7
-
Level ID: 5
[ Start Tile, End Tile ]
- Resolution: 4891.96981024998
- Scale: 1.8489297737236E7
- Format: PNG
- Compression Quality: 0.0
- Origin: X: -2.0037508342787E7
Y: 2.0037508342787E7
- Spatial Reference: 102100
(3857)
LatestVCSWkid(0)
Storage Info:
- Storage Format: esriMapCacheStorageModeCompactV2
- Packet Size: 128
Initial Extent:
XMin: -8014365.454699578
YMin: 5032932.8743285695
XMax: -7879803.926327078
YMax: 5137628.468182332
Spatial Reference: 102100
(0)
LatestVCSWkid(0)
Full Extent:
XMin: -8005666.275432427
YMin: 5031739.436123324
XMax: -7914583.4375752695
YMax: 5165988.918867822
Spatial Reference: 102100
(0)
LatestVCSWkid(0)
Units: esriMeters
Supported Image Format Types: PNG32,PNG24,PNG,JPG,DIB,TIFF,EMF,PS,PDF,GIF,SVG,SVGZ,BMP
Document Info:
Title: Rhode Island Inundation Scenarios Developed from a LiDAR-Derived Elevation Model
Author:
Comments: This work sought to compile the best-available elevation and bathymetry data for the state, then construct a new, continuous topographic/bathymetric digital elevation model (DEM). These combined data would generate a much more useful picture of the coastal environment, allowing for better coastal hazards planning along with the more traditional upland uses. In addition to the DEM both a hillshade and 2, 5, and 10-foot contour datasets were developed. These products are in high demand for effective visualization and analysis, and create a complete elevation product package for the state that can then be used for evaluating coastal hazards.
This map service is provided to the general public under the provisions of a Creative Commons Attribution-ShareAlike 3.0 United States License. Please direct any questions regarding contents or appropriate usage of this map service to Greg Bonynge (greg@edc.uri.edu).
Subject: Inundation surfaces that highlight areas of possible concern for different Sea Level Rise (SLR) scenarios. All flood surfaces build upon mean higher-high water.
Category:
Keywords: planningCadastre,inundation,hurricanes,storm surge,RI,RhodeIsland,RhodeIslandDigitalAtlas,RIGIS,URIEDC
AntialiasingMode: Best
TextAntialiasingMode: Force
Supports Dynamic Layers: false
MaxRecordCount: 1000
MaxImageHeight: 4096
MaxImageWidth: 4096
Supported Query Formats: JSON, geoJSON, PBF
Supports Query Data Elements: true
Min Scale: 1155581.108577
Max Scale: 4513.988705
Supports Datum Transformation: true
Child Resources:
Info
Supported Operations:
Export Map
Identify
QueryLegends
QueryDomains
Find
Return Updates
Generate KML