View In:
ArcGIS JavaScript
ArcGIS Online Map Viewer
ArcGIS Earth
Service Description: STORMTOOLS is a method to map storm inundation, with and without sea level rise, for varying return period storms that covers all of Rhode Island’s coastal waters. It is housed at the Shoreline Change Special Area Management Plan's website (http://www.beachsamp.org)
Name: Stormtools/Mosaic_Merged_MHHW_All
Description: STORMTOOLS is a method to map storm inundation, with and without sea level rise, for varying return period storms that covers all of Rhode Island’s coastal waters. It is housed at the Shoreline Change Special Area Management Plan's website (http://www.beachsamp.org)
Single Fused Map Cache: false
Extent:
XMin: -8005666.2926
YMin: 5031739.09609289
XMax: -7914583.218015291
YMax: 5165988.7321000025
Spatial Reference: 102100
(3857)
LatestVCSWkid(0)
Initial Extent:
XMin: -8005666.2926
YMin: 5031739.09609289
XMax: -7914583.218015291
YMax: 5165988.7321000025
Spatial Reference: 102100
(3857)
LatestVCSWkid(0)
Full Extent:
XMin: -8005666.2926
YMin: 5031739.09609289
XMax: -7914583.218015291
YMax: 5165988.7321000025
Spatial Reference: 102100
(3857)
LatestVCSWkid(0)
Pixel Size X: 0.9999898399796834
Pixel Size Y: 0.9999898399796832
Band Count: 1
Pixel Type: U16
RasterFunction Infos: {"rasterFunctionInfos": [
{
"name": "None",
"description": "A No-Op Function.",
"help": ""
},
{
"name": "MHHW",
"description": "A raster function template.",
"help": ""
},
{
"name": "WaterDepth",
"description": "A raster function template.",
"help": ""
},
{
"name": "FloodExtent",
"description": "A raster function template.",
"help": ""
},
{
"name": "FloodExtent",
"description": "A raster function template.",
"help": ""
},
{
"name": "FloodExtent",
"description": "A raster function template.",
"help": ""
},
{
"name": "FloodExtent",
"description": "A raster function template.",
"help": ""
},
{
"name": "FloodExtent",
"description": "A raster function template.",
"help": ""
},
{
"name": "FloodExtent",
"description": "A raster function template.",
"help": ""
},
{
"name": "FloodExtent",
"description": "A raster function template.",
"help": ""
}
]}
Mensuration Capabilities: None
Inspection Capabilities:
Has Histograms: true
Has Colormap: false
Has Multi Dimensions : false
Rendering Rule:
Min Scale: 0
Max Scale: 0
Copyright Text: URI OCE, URI EDC, URI CRC, RI CRMC, NAOO, FEMA, NACCS, USACOE
Service Data Type: esriImageServiceDataTypeGeneric
Min Values: 0
Max Values: 37667
Mean Values: 3673.67682265943
Standard Deviation Values: 9573.997960998564
Object ID Field: OBJECTID
Fields:
-
OBJECTID
(
type: esriFieldTypeOID, alias: OBJECTID
)
-
Shape
(
type: esriFieldTypeGeometry, alias: Shape
)
-
Name
(
type: esriFieldTypeString, alias: Name, length: 200
)
-
MinPS
(
type: esriFieldTypeDouble, alias: MinPS
)
-
MaxPS
(
type: esriFieldTypeDouble, alias: MaxPS
)
-
LowPS
(
type: esriFieldTypeDouble, alias: LowPS
)
-
HighPS
(
type: esriFieldTypeDouble, alias: HighPS
)
-
Category
(
type: esriFieldTypeInteger, alias: Category
, Coded Values:
[0: Unknown]
, [1: Primary]
, [2: Overview]
, ...6 more...
)
-
Tag
(
type: esriFieldTypeString, alias: Tag, length: 100
)
-
GroupName
(
type: esriFieldTypeString, alias: GroupName, length: 100
)
-
ProductName
(
type: esriFieldTypeString, alias: ProductName, length: 100
)
-
CenterX
(
type: esriFieldTypeDouble, alias: CenterX
)
-
CenterY
(
type: esriFieldTypeDouble, alias: CenterY
)
-
ZOrder
(
type: esriFieldTypeInteger, alias: ZOrder
)
-
Shape_Length
(
type: esriFieldTypeDouble, alias: Shape_Length
)
-
Shape_Area
(
type: esriFieldTypeDouble, alias: Shape_Area
)
Default Mosaic Method: Northwest
Allowed Mosaic Methods: NorthWest,Center,LockRaster,ByAttribute,Nadir,Viewpoint,Seamline,None
SortField:
SortValue: null
Mosaic Operator: First
Default Compression Quality: 75
Default Resampling Method: Bilinear
Max Record Count: 1000
Max Image Height: 4100
Max Image Width: 15000
Max Download Image Count: 20
Max Mosaic Image Count: 20
Allow Raster Function: true
Allow Copy: true
Allow Analysis: true
Allow Compute TiePoints: false
Supports Statistics: true
Supports Advanced Queries: true
Use StandardizedQueries: true
Raster Type Infos:
Name: Raster Dataset
Description: Supports all ArcGIS Raster Datasets
Help:
Has Raster Attribute Table: false
Edit Fields Info: null
Ownership Based AccessControl For Rasters: null
Child Resources:
Info
Histograms
Statistics
Key Properties
Legend
Raster Function Infos
Supported Operations:
Export Image
Query
Identify
Compute Histograms
Compute Statistics Histograms
Get Samples
Compute Class Statistics
Query GPS Info
Find Images
Image to Map
Map to Image
Measure from Image
Image to Map Multiray
Query Boundary
Compute Pixel Location
Compute Angles
Validate
Project