View In:
ArcGIS JavaScript
ArcGIS Online Map Viewer
ArcGIS Earth
ArcGIS Pro
Service Description: This draft map service uses contour lines derived from digital elevation data collected in 2011 as part of the ARRA Northeast LiDAR Project. Contour data are slated to be distributed via RIGIS in August 2013.
This map service is published by the University of Rhode Island Environmental Data Center as part of its Rhode Island Digital Atlas initiative (http://www.edc.uri.edu/atlas). Please review the terms and conditions associated with this map service at http://www.edc.uri.edu/atlas/about/terms.html before accessing and/or using this service.
Map Name: Layers
Legend
All Layers and Tables
Dynamic Legend
Dynamic All Layers
Layers:
-
1:2,311,162 (0)
-
1:1,155,581 (2)
-
1:577,791 (4)
-
1:288,895 (6)
-
1:144,448 (8)
-
1:72,224 (10)
-
1:36,112 (12)
-
1:18,056 (14)
-
1:9.028 (16)
-
1:4,514 (18)
-
1:2,257 (20)
-
1:1,128 (22)
Description:
Copyright Text: RIGIS, URI EDC
Spatial Reference:
102100
(3857)
LatestVCSWkid(0)
Single Fused Map Cache: true
Tile Info:
- Height: 256.0
- Width: 256.0
- DPI: 96.0
-
Levels of Detail: 24
-
Level ID: 0
[ Start Tile, End Tile ]
- Resolution: 156543.03392800014
- Scale: 5.91657527591555E8
-
Level ID: 1
[ Start Tile, End Tile ]
- Resolution: 78271.51696399994
- Scale: 2.95828763795777E8
-
Level ID: 2
[ Start Tile, End Tile ]
- Resolution: 39135.75848200009
- Scale: 1.47914381897889E8
-
Level ID: 3
[ Start Tile, End Tile ]
- Resolution: 19567.87924099992
- Scale: 7.3957190948944E7
-
Level ID: 4
[ Start Tile, End Tile ]
- Resolution: 9783.93962049996
- Scale: 3.6978595474472E7
-
Level ID: 5
[ Start Tile, End Tile ]
- Resolution: 4891.96981024998
- Scale: 1.8489297737236E7
- Format: PNG
- Compression Quality: 0.0
- Origin: X: -2.0037508342787E7
Y: 2.0037508342787E7
- Spatial Reference: 102100
(3857)
LatestVCSWkid(0)
Storage Info:
- Storage Format: esriMapCacheStorageModeCompactV2
- Packet Size: 128
Initial Extent:
XMin: -7961140.772051911
YMin: 5098419.999123233
XMax: -7958326.933948089
YMax: 5099392.182576762
Spatial Reference: 102100
(0)
LatestVCSWkid(0)
Full Extent:
XMin: -8003014.9498
YMin: 5033991.244900003
XMax: -7917102.899900001
YMax: 5163807.086300001
Spatial Reference: 102100
(0)
LatestVCSWkid(0)
Units: esriMeters
Supported Image Format Types: PNG32,PNG24,PNG,JPG,DIB,TIFF,EMF,PS,PDF,GIF,SVG,SVGZ,BMP
Document Info:
Title: Elevation Contour Lines
Author: Greg Bonynge, URI EDC (greg@edc.uri.edu)
Comments: This draft map service uses contour lines derived from digital elevation data collected in 2011 as part of the ARRA Northeast LiDAR Project. Contour data are slated to be distributed via RIGIS in August 2013.
This map service is published by the University of Rhode Island Environmental Data Center as part of its Rhode Island Digital Atlas initiative (http://www.edc.uri.edu/atlas). Please review the terms and conditions associated with this map service at http://www.edc.uri.edu/atlas/about/terms.html before accessing and/or using this service.
Subject: Statewide elevation contours for Rhode Island, ranging from 250-ft to 2-ft contour intervals.
Category:
Keywords: RhodeIsland,RI,RhodeIslandDigitalAtlas,RIGIS,URIEDC
AntialiasingMode: None
TextAntialiasingMode: Force
Supports Dynamic Layers: true
MaxRecordCount: 1000
MaxImageHeight: 4096
MaxImageWidth: 4096
Supported Query Formats: JSON, geoJSON, PBF
Supports Query Data Elements: true
Min Scale: 5.91657527591555E8
Max Scale: 70.5310735
Min LOD: 0
Max LOD: 19
Supports Datum Transformation: true
Child Resources:
Info
Dynamic Layer
Supported Operations:
Export Map
Identify
QueryLegends
QueryDomains
Find
Return Updates
Generate KML