View In:
ArcGIS JavaScript
ArcGIS Online Map Viewer
ArcGIS Earth
ArcGIS Pro
Service Description: This map service features orthophotography of Rhode Island's metropolitan core. These true color, 6-inch spatial resolution images were collected in April 2002 by the United States Geological Survey. These data are available from the Rhode Island Geographic Information System (RIGIS) consortium (http://www.edc.uri.edu/rigis).
This map service is published by the University of Rhode Island Environmental Data Center as part of its Rhode Island Digital Atlas initiative (http://www.edc.uri.edu/atlas). Please review the terms and conditions associated with this map service at http://www.edc.uri.edu/atlas/about/terms.html before accessing and/or using this service.
Map Name: Layers
Legend
All Layers and Tables
Layers:
Description:
Copyright Text: USGS, RIGIS, University of Rhode Island Environmental Data Center (URIEDC)
Spatial Reference:
102100
(3857)
LatestVCSWkid(0)
Single Fused Map Cache: true
Tile Info:
- Height: 256.0
- Width: 256.0
- DPI: 96.0
-
Levels of Detail: 20
-
Level ID: 0
[ Start Tile, End Tile ]
- Resolution: 156543.03392800014
- Scale: 5.91657527591555E8
-
Level ID: 1
[ Start Tile, End Tile ]
- Resolution: 78271.51696399994
- Scale: 2.95828763795777E8
-
Level ID: 2
[ Start Tile, End Tile ]
- Resolution: 39135.75848200009
- Scale: 1.47914381897889E8
-
Level ID: 3
[ Start Tile, End Tile ]
- Resolution: 19567.87924099992
- Scale: 7.3957190948944E7
-
Level ID: 4
[ Start Tile, End Tile ]
- Resolution: 9783.93962049996
- Scale: 3.6978595474472E7
-
Level ID: 5
[ Start Tile, End Tile ]
- Resolution: 4891.96981024998
- Scale: 1.8489297737236E7
- Format: MIXED
- Compression Quality: 75.0
- Origin: X: -2.0037508342787E7
Y: 2.0037508342787E7
- Spatial Reference: 102100
(3857)
LatestVCSWkid(0)
Storage Info:
- Storage Format: esriMapCacheStorageModeCompact
- Packet Size: 128
Initial Extent:
XMin: -8006523.766157161
YMin: 5128247.492758419
XMax: -7898270.759842835
YMax: 5165648.998335611
Spatial Reference: 102100
(3857)
LatestVCSWkid(0)
Full Extent:
XMin: -7975322.3642
YMin: 5102946.965699998
XMax: -7929472.1618
YMax: 5163013.265700004
Spatial Reference: 102100
(3857)
LatestVCSWkid(0)
Units: esriMeters
Supported Image Format Types: PNG32,PNG24,PNG,JPG,DIB,TIFF,EMF,PS,PDF,GIF,SVG,SVGZ,BMP
Document Info:
Title: Rhode Island Aerial Photography (2002)
Author: Greg Bonynge (URIEDC; greg@edc.uri.edu)
Comments: This map service features orthophotography of Rhode Island's metropolitan core. These true color, 6-inch spatial resolution images were collected in April 2002 by the United States Geological Survey. These data are available from the Rhode Island Geographic Information System (RIGIS) consortium (http://www.edc.uri.edu/rigis).
This map service is published by the University of Rhode Island Environmental Data Center as part of its Rhode Island Digital Atlas initiative (http://www.edc.uri.edu/atlas). Please review the terms and conditions associated with this map service at http://www.edc.uri.edu/atlas/about/terms.html before accessing and/or using this service.
Subject: Orthophotography of Rhode Island's metropolitan core from April 2002, available from RIGIS.
Category:
Keywords: imageryBaseMapsEarthCover,RhodeIsland,RI,RhodeIslandDigitalAtlas,RIGIS,URIEDC,USGS
AntialiasingMode: None
TextAntialiasingMode: Force
Supports Dynamic Layers: false
MaxRecordCount: 1000
MaxImageHeight: 2048
MaxImageWidth: 2048
Supported Query Formats: JSON, geoJSON, PBF
Supports Query Data Elements: true
Min Scale: 2311162.217155
Max Scale: 1128.497176
Supports Datum Transformation: true
Child Resources:
Info
Supported Operations:
Export Map
Identify
QueryLegends
QueryDomains
Find
Return Updates
Generate KML