View In:
ArcGIS JavaScript
ArcGIS Online Map Viewer
ArcGIS Earth
ArcGIS Pro
Service Description: Devastation in the wake of Hurricane Sandy revealed a need to address the vulnerability of populations, infrastructure, and resources at risk throughout more than 31,200 miles of the North Atlantic coastal region. This study can be used by States and local communities to identify their flood risk, and plan and implement strategies in collaboration with others, to reduce that risk now and into the future.
All measurements are relative to Mean Sea Level (MSL).
Map Name: Layers
Legend
All Layers and Tables
Dynamic Legend
Dynamic All Layers
Layers:
Description:
Copyright Text: USACOE, NACCS, URI OCE, URI EDC
Spatial Reference:
102100
(3857)
LatestVCSWkid(0)
Single Fused Map Cache: true
Tile Info:
- Height: 256
- Width: 256
- DPI: 96
-
Levels of Detail: 20
-
Level ID: 0
[ Start Tile, End Tile ]
- Resolution: 156543.03392800014
- Scale: 5.91657527591555E8
-
Level ID: 1
[ Start Tile, End Tile ]
- Resolution: 78271.51696399994
- Scale: 2.95828763795777E8
-
Level ID: 2
[ Start Tile, End Tile ]
- Resolution: 39135.75848200009
- Scale: 1.47914381897889E8
-
Level ID: 3
[ Start Tile, End Tile ]
- Resolution: 19567.87924099992
- Scale: 7.3957190948944E7
-
Level ID: 4
[ Start Tile, End Tile ]
- Resolution: 9783.93962049996
- Scale: 3.6978595474472E7
-
Level ID: 5
[ Start Tile, End Tile ]
- Resolution: 4891.96981024998
- Scale: 1.8489297737236E7
- Format: PNG
- Compression Quality: 0.0
- Origin: X: -2.0037508342787E7
Y: 2.0037508342787E7
- Spatial Reference: 102100
(3857)
LatestVCSWkid(0)
Storage Info:
- Storage Format: esriMapCacheStorageModeCompactV2
- Packet Size: 128
Initial Extent:
XMin: -8026237.0080135325
YMin: 5061151.645561899
XMax: -7890240.902687988
YMax: 5132377.621347184
Spatial Reference: 102100
(3857)
LatestVCSWkid(0)
Full Extent:
XMin: -8015241.911233662
YMin: 4987254.03494233
XMax: -7903172.477206989
YMax: 5137729.1985535
Spatial Reference: 102100
(3857)
LatestVCSWkid(0)
Units: esriMeters
Supported Image Format Types: PNG32,PNG24,PNG,JPG,DIB,TIFF,EMF,PS,PDF,GIF,SVG,SVGZ,BMP
Document Info:
Title: NACCS Modeled Wave Heights Relative to MSL
Author:
Comments: Devastation in the wake of Hurricane Sandy revealed a need to address the vulnerability of populations, infrastructure, and resources at risk throughout more than 31,200 miles of the North Atlantic coastal region. This study can be used by States and local communities to identify their flood risk, and plan and implement strategies in collaboration with others, to reduce that risk now and into the future.
All measurements are relative to Mean Sea Level (MSL).
Subject: NACCS modeled wave heights for varying return periods.
Category:
Keywords: naccs,wave height
AntialiasingMode: Best
TextAntialiasingMode: Force
Supports Dynamic Layers: true
MaxRecordCount: 1000
MaxImageHeight: 4096
MaxImageWidth: 4096
Supported Query Formats: JSON, geoJSON, PBF
Supports Query Data Elements: true
Min Scale: 9244648.868618
Max Scale: 4513.988705
Supports Datum Transformation: true
Child Resources:
Info
Dynamic Layer
Supported Operations:
Export Map
Identify
QueryLegends
QueryDomains
Find
Return Updates
Generate KML