View In:
  ArcGIS JavaScript
  ArcGIS Online Map Viewer
  ArcGIS Earth
Service Description:  IMG/RI_202004_RGBI_6in_spf_NAD83_2011
Name:  IMG/RI_202004_RGBI_6in_spf_NAD83_2011
Description:  
Single Fused Map Cache:  false
Extent: 
XMin: 214999.99828991294
YMin: 20000.000148318708
XMax: 434999.99828991294
YMax: 345000.0001483187
Spatial Reference: 103144
 (6568)
 LatestVCSWkid(0)
Initial Extent:
XMin: 214999.99828991294
YMin: 20000.000148318708
XMax: 434999.99828991294
YMax: 345000.0001483187
Spatial Reference: 103144
 (6568)
 LatestVCSWkid(0)
Full Extent:
XMin: 214999.99828991294
YMin: 20000.000148318708
XMax: 434999.99828991294
YMax: 345000.0001483187
Spatial Reference: 103144
 (6568)
 LatestVCSWkid(0)
Pixel Size X: 0.5
Pixel Size Y:  0.5
Band Count: 4
Pixel Type: U16
RasterFunction Infos:  {"rasterFunctionInfos": [{
 "name": "None",
 "description": "Make a Raster or Raster Dataset into a Function Raster Dataset.",
 "help": ""
}]}
Mensuration Capabilities: 
Inspection Capabilities: 
Has Histograms:  true
Has Colormap:  false
Has Multi Dimensions :  false
Rendering Rule: 
Min Scale:  0
Max Scale:  0
Resampling:  false
Copyright Text:  
Service Data Type:  esriImageServiceDataTypeProcessed
Min Values:  722, 1281, 1901, 354
Max Values:  65451, 65459, 65452, 65449
Mean Values:  21202.462018882798, 20881.56772025505, 19732.309094333403, 31938.27212426561
Standard Deviation Values:  7394.088564082776, 6302.992162779239, 5706.088573247553, 11778.146919956724
Object ID Field:  OBJECTID
Fields: 
- 
OBJECTID
(
type: esriFieldTypeOID, alias: OBJECTID
)
- 
Shape
(
type: esriFieldTypeGeometry, alias: Shape
)
- 
Name
(
type: esriFieldTypeString, alias: Name, length: 200
)
- 
MinPS
(
type: esriFieldTypeDouble, alias: MinPS
)
- 
MaxPS
(
type: esriFieldTypeDouble, alias: MaxPS
)
- 
LowPS
(
type: esriFieldTypeDouble, alias: LowPS
)
- 
HighPS
(
type: esriFieldTypeDouble, alias: HighPS
)
- 
Category
(
type: esriFieldTypeInteger, alias: Category
, Coded Values: 
[0: Unknown]
, [1: Primary]
, [2: Overview]
, ...6 more...
)
- 
Tag
(
type: esriFieldTypeString, alias: Tag, length: 100
)
- 
GroupName
(
type: esriFieldTypeString, alias: GroupName, length: 100
)
- 
ProductName
(
type: esriFieldTypeString, alias: ProductName, length: 100
)
- 
CenterX
(
type: esriFieldTypeDouble, alias: CenterX
)
- 
CenterY
(
type: esriFieldTypeDouble, alias: CenterY
)
- 
ZOrder
(
type: esriFieldTypeInteger, alias: ZOrder
)
- 
Shape_Length
(
type: esriFieldTypeDouble, alias: Shape_Length
)
- 
Shape_Area
(
type: esriFieldTypeDouble, alias: Shape_Area
)
Default Mosaic Method: Northwest
Allowed Mosaic Methods:  NorthWest,Center,LockRaster,ByAttribute,Nadir,Viewpoint,Seamline,None
SortField:  
SortValue:  null
Mosaic Operator:  First
Default Compression Quality:  75
Default Resampling Method:  Bilinear
Max Record Count:  1000
Max Image Height:  4100
Max Image Width:  15000
Max Download Image Count:  20
Max Mosaic Image Count:  20
Allow Raster Function:  true
Allow Copy:  true
Allow Analysis:  true
Allow Compute TiePoints:  false
Supports Statistics:  true
Supports Advanced Queries:  true
Use StandardizedQueries:  true
Raster Type Infos: 
Name: Raster Dataset
Description: Supports all ArcGIS Raster Datasets
Help: 
Has Raster Attribute Table: false
Edit Fields Info:  null
Ownership Based AccessControl For Rasters:  null
Child Resources:
  
Info
  Histograms
  Statistics
  Key Properties
  Legend
  Raster Function Infos
Supported Operations:
  
Export Image
  Query
  Identify
  Measure
  Compute Histograms
  Compute Statistics Histograms
  Get Samples
  Compute Class Statistics
  Query GPS Info
  Find Images
  Image to Map
  Map to Image
  Measure from Image
  Image to Map Multiray
  Query Boundary
  Compute Pixel Location
  Compute Angles
  Validate
  Project