View In:
ArcGIS JavaScript
ArcGIS Online Map Viewer
ArcGIS Earth
Service Description: This image service features orthophotography collected over April 29 - May 2, 2011 under contract by Photo Science from the Rhode Island Department of Environmental Management and USGS. The source images are 4-band multispectral (bands 1-2-3 in RGB are represented on this map), have a 6-inch spatial resolution, and are available from the Rhode Island Geographic Information System (RIGIS) consortium (http://www.edc.uri.edu/rigis).
Name: imagery/RI_201104_RGBI_6in_web
Description: This image service features orthophotography collected over April 29 - May 2, 2011 under contract by Photo Science from the Rhode Island Department of Environmental Management and USGS. The source images are 4-band multispectral (bands 1-2-3 in RGB are represented on this map), have a 6-inch spatial resolution, and are available from the Rhode Island Geographic Information System (RIGIS) consortium (http://www.edc.uri.edu/rigis).
Single Fused Map Cache: false
Extent:
XMin: -8003150.9388
YMin: 5030713.801126234
XMax: -7913839.026176174
YMax: 5167550.681999996
Spatial Reference: 102100
(3857)
Initial Extent:
XMin: -8003150.9388
YMin: 5030713.801126234
XMax: -7913839.026176174
YMax: 5167550.681999996
Spatial Reference: 102100
(3857)
Full Extent:
XMin: -8003150.9388
YMin: 5030713.801126234
XMax: -7913839.026176174
YMax: 5167550.681999996
Spatial Reference: 102100
(3857)
Pixel Size X: 0.15240030480061
Pixel Size Y: 0.15240030480060995
Band Count: 4
Pixel Type: U8
RasterFunction Infos: {"rasterFunctionInfos": [{
"name": "None",
"description": "A No-Op Function.",
"help": ""
}]}
Mensuration Capabilities: None,Basic
Inspection Capabilities:
Has Histograms: true
Has Colormap: false
Has Multi Dimensions : false
Rendering Rule:
Min Scale: 0
Max Scale: 0
Resampling: false
Copyright Text:
Service Data Type: esriImageServiceDataTypeProcessed
Min Values: 0, 0, 1, 0
Max Values: 255, 255, 255, 255
Mean Values: 103.13195156787005, 102.43242303281107, 93.61746081057582, 134.11870248471598
Standard Deviation Values: 43.39818670795779, 36.96677940682354, 32.213274154144926, 63.775920651529496
Object ID Field: OBJECTID
Fields:
-
OBJECTID
(
type: esriFieldTypeOID, alias: OBJECTID
)
-
Shape
(
type: esriFieldTypeGeometry, alias: Shape
)
-
Name
(
type: esriFieldTypeString, alias: Name, length: 50
)
-
MinPS
(
type: esriFieldTypeDouble, alias: MinPS
)
-
MaxPS
(
type: esriFieldTypeDouble, alias: MaxPS
)
-
LowPS
(
type: esriFieldTypeDouble, alias: LowPS
)
-
HighPS
(
type: esriFieldTypeDouble, alias: HighPS
)
-
Category
(
type: esriFieldTypeInteger, alias: Category
, Coded Values:
[0: Unknown]
, [1: Primary]
, [2: Overview]
, ...5 more...
)
-
Tag
(
type: esriFieldTypeString, alias: Tag, length: 20
)
-
GroupName
(
type: esriFieldTypeString, alias: GroupName, length: 50
)
-
ProductName
(
type: esriFieldTypeString, alias: ProductName, length: 50
)
-
CenterX
(
type: esriFieldTypeDouble, alias: CenterX
)
-
CenterY
(
type: esriFieldTypeDouble, alias: CenterY
)
-
ZOrder
(
type: esriFieldTypeInteger, alias: ZOrder
)
-
Shape_Length
(
type: esriFieldTypeDouble, alias: Shape_Length
)
-
Shape_Area
(
type: esriFieldTypeDouble, alias: Shape_Area
)
Default Mosaic Method: Northwest
Allowed Mosaic Methods: NorthWest,Center,LockRaster,ByAttribute,Nadir,Viewpoint,Seamline,None
SortField:
SortValue: null
Mosaic Operator: First
Default Compression Quality: 80
Default Resampling Method: Bilinear
Max Record Count: 1000
Max Image Height: 4100
Max Image Width: 15000
Max Download Image Count: 20
Max Mosaic Image Count: 50
Allow Raster Function: true
Allow Copy: true
Allow Analysis: true
Allow Compute TiePoints: false
Supports Statistics: true
Supports Advanced Queries: true
Use StandardizedQueries: true
Raster Type Infos:
Name: Raster Dataset
Description: Supports all ArcGIS Raster Datasets
Help:
Has Raster Attribute Table: false
Edit Fields Info: null
Ownership Based AccessControl For Rasters: null
Child Resources:
Info
Histograms
Statistics
Key Properties
Legend
Raster Function Infos
Supported Operations:
Export Image
Query
Identify
Measure
Compute Histograms
Compute Statistics Histograms
Get Samples
Compute Class Statistics
Query GPS Info
Find Images
Image to Map
Map to Image
Measure from Image
Image to Map Multiray
Query Boundary
Compute Pixel Location
Compute Angles
Validate
Project