View In:
ArcGIS JavaScript
ArcGIS Online Map Viewer
ArcGIS Earth
Service Description: CERI/SouthCoast_RiskSurface_Max_SLR2
Name: CERI/SouthCoast_RiskSurface_Max_SLR2
Description:
Single Fused Map Cache: false
Extent:
XMin: 217686.87123474618
YMin: 80411.44876407165
XMax: 341789.6928347462
YMax: 130417.40236407166
Spatial Reference: 102730
(3438)
LatestVCSWkid(0)
Initial Extent:
XMin: 217686.87123474618
YMin: 80411.44876407165
XMax: 341789.6928347462
YMax: 130417.40236407166
Spatial Reference: 102730
(3438)
LatestVCSWkid(0)
Full Extent:
XMin: 217686.87123474618
YMin: 80411.44876407165
XMax: 341789.6928347462
YMax: 130417.40236407166
Spatial Reference: 102730
(3438)
LatestVCSWkid(0)
Pixel Size X: 3.2808000000000006
Pixel Size Y: 3.2808000000000006
Band Count: 1
Pixel Type: F32
RasterFunction Infos: {"rasterFunctionInfos": [
{
"name": "Structural Damage Risk",
"description": "Color ramp showing projected damage for a worst case scenario -- a single story home with a basement.",
"help": ""
},
{
"name": "None",
"description": "",
"help": ""
}
]}
Mensuration Capabilities: Basic
Inspection Capabilities:
Has Histograms: true
Has Colormap: false
Has Multi Dimensions : false
Rendering Rule:
Min Scale: 0
Max Scale: 0
Copyright Text:
Service Data Type: esriImageServiceDataTypeGeneric
Min Values: -1
Max Values: 100
Mean Values: 60.796990787661485
Standard Deviation Values: 34.69357447701801
Object ID Field:
Fields:
None
Default Mosaic Method: Center
Allowed Mosaic Methods:
SortField:
SortValue: null
Mosaic Operator: First
Default Compression Quality: 75
Default Resampling Method: Nearest
Max Record Count: null
Max Image Height: 4100
Max Image Width: 15000
Max Download Image Count: null
Max Mosaic Image Count: null
Allow Raster Function: true
Allow Copy: true
Allow Analysis: true
Allow Compute TiePoints: false
Supports Statistics: false
Supports Advanced Queries: false
Use StandardizedQueries: true
Raster Type Infos:
Name: Raster Dataset
Description: Supports all ArcGIS Raster Datasets
Help:
Has Raster Attribute Table: false
Edit Fields Info: null
Ownership Based AccessControl For Rasters: null
Child Resources:
Info
Histograms
Statistics
Key Properties
Legend
Raster Function Infos
Supported Operations:
Export Image
Identify
Measure
Compute Histograms
Compute Statistics Histograms
Get Samples
Compute Class Statistics
Query Boundary
Compute Pixel Location
Compute Angles
Validate
Project