View In:
ArcGIS JavaScript
ArcGIS Online Map Viewer
ArcGIS Earth
Service Description: Time series displaying the advancing wind field for simulated Hurricane Ram
Name: RIEMA_DHS/Mosaic_HurricaneRam_Wind_Direction
Description: Time series displaying the advancing wind field for simulated Hurricane Ram
Single Fused Map Cache: false
Extent:
XMin: -9056155.414
YMin: 3141871.2644252954
XMax: -6920138.442752512
YMax: 6388015.365800001
Spatial Reference: 102100
(3857)
LatestVCSWkid(0)
Initial Extent:
XMin: -9056155.414
YMin: 3141871.2644252954
XMax: -6920138.442752512
YMax: 6388015.365800001
Spatial Reference: 102100
(3857)
LatestVCSWkid(0)
Full Extent:
XMin: -9056155.414
YMin: 3141871.2644252954
XMax: -6920138.442752512
YMax: 6388015.365800001
Spatial Reference: 102100
(3857)
LatestVCSWkid(0)
Time Info:
Start Time Field: TimeStep
End Time Field: null
Time Extent:
[2020/09/17 12:30:00 UTC, 2020/09/20 09:00:00 UTC]
Time Reference:
N/A
Pixel Size X: 1002.8248691302764
Pixel Size Y: 1002.8248691302766
Band Count: 2
Pixel Type: F32
RasterFunction Infos: {"rasterFunctionInfos": [
{
"name": "Wind Intensity (Vector)",
"description": "Display wind intensity using a vector graphics showing direction and intensity.",
"help": ""
},
{
"name": "None",
"description": "A No-Op Function.",
"help": ""
}
]}
Mensuration Capabilities: None
Inspection Capabilities:
Has Histograms: true
Has Colormap: false
Has Multi Dimensions : false
Rendering Rule:
Min Scale: 0
Max Scale: 0
Copyright Text:
Service Data Type: esriImageServiceDataTypeGeneric
Min Values: 0, 0
Max Values: 37.564414978027344, 360
Mean Values: 9.766010635248396, 104.09774928113663
Standard Deviation Values: 5.406709918339957, 121.79361525148232
Object ID Field: OBJECTID
Fields:
-
OBJECTID
(
type: esriFieldTypeOID, alias: OBJECTID
)
-
Shape
(
type: esriFieldTypeGeometry, alias: Shape
)
-
Name
(
type: esriFieldTypeString, alias: Name, length: 200
)
-
MinPS
(
type: esriFieldTypeDouble, alias: MinPS
)
-
MaxPS
(
type: esriFieldTypeDouble, alias: MaxPS
)
-
LowPS
(
type: esriFieldTypeDouble, alias: LowPS
)
-
HighPS
(
type: esriFieldTypeDouble, alias: HighPS
)
-
Category
(
type: esriFieldTypeInteger, alias: Category
, Coded Values:
[0: Unknown]
, [1: Primary]
, [2: Overview]
, ...6 more...
)
-
Tag
(
type: esriFieldTypeString, alias: Tag, length: 100
)
-
GroupName
(
type: esriFieldTypeString, alias: GroupName, length: 100
)
-
ProductName
(
type: esriFieldTypeString, alias: ProductName, length: 100
)
-
CenterX
(
type: esriFieldTypeDouble, alias: CenterX
)
-
CenterY
(
type: esriFieldTypeDouble, alias: CenterY
)
-
ZOrder
(
type: esriFieldTypeInteger, alias: ZOrder
)
-
Shape_Length
(
type: esriFieldTypeDouble, alias: Shape_Length
)
-
Shape_Area
(
type: esriFieldTypeDouble, alias: Shape_Area
)
-
UNIXTIME
(
type: esriFieldTypeInteger, alias: UNIXTIME
)
-
TimeStep
(
type: esriFieldTypeDate, alias: TimeStep, length: 8
)
Default Mosaic Method: LockRaster
Allowed Mosaic Methods: LockRaster,None
SortField:
SortValue: null
Mosaic Operator: First
Default Compression Quality: 90
Default Resampling Method: Bilinear
Max Record Count: 1000
Max Image Height: 4100
Max Image Width: 15000
Max Download Image Count: 20
Max Mosaic Image Count: 20
Allow Raster Function: true
Allow Copy: true
Allow Analysis: true
Allow Compute TiePoints: false
Supports Statistics: true
Supports Advanced Queries: true
Use StandardizedQueries: true
Raster Type Infos:
Name: Raster Dataset
Description: Supports all ArcGIS Raster Datasets
Help:
Has Raster Attribute Table: false
Edit Fields Info: null
Ownership Based AccessControl For Rasters: null
Child Resources:
Info
Histograms
Statistics
Key Properties
Legend
Raster Function Infos
Supported Operations:
Export Image
Query
Identify
Compute Histograms
Compute Statistics Histograms
Get Samples
Compute Class Statistics
Query GPS Info
Find Images
Image to Map
Map to Image
Measure from Image
Image to Map Multiray
Query Boundary
Compute Pixel Location
Compute Angles
Validate
Project