View In:
ArcGIS JavaScript
ArcGIS Online Map Viewer
ArcGIS Earth
Service Description: Time series showing the inundation of Providence, RI during simulated Hurricane Ram. Impacts are based on the hurricane barrier being closed for the duration of the event. Time stes are in 30-minute intervals and water depths are in feet.
Name: RIEMA_DHS/Mosaic_Ram_Inundation_ft_BarrierClosed
Description: Time series showing the inundation of Providence, RI during simulated Hurricane Ram. Impacts are based on the hurricane barrier being closed for the duration of the event. Time stes are in 30-minute intervals and water depths are in feet.
Single Fused Map Cache: false
Extent:
XMin: -7954752.664999999
YMin: 5125052.777726875
XMax: -7938704.828048006
YMax: 5140468.621100001
Spatial Reference: 102100
(3857)
LatestVCSWkid(0)
Initial Extent:
XMin: -7954752.664999999
YMin: 5125052.777726875
XMax: -7938704.828048006
YMax: 5140468.621100001
Spatial Reference: 102100
(3857)
LatestVCSWkid(0)
Full Extent:
XMin: -7954752.664999999
YMin: 5125052.777726875
XMax: -7938704.828048006
YMax: 5140468.621100001
Spatial Reference: 102100
(3857)
LatestVCSWkid(0)
Time Info:
Start Time Field: DateTime
End Time Field: null
Time Extent:
[2020/09/18 19:30:00 UTC, 2020/09/20 10:00:00 UTC]
Time Reference:
N/A
Pixel Size X: 0.999989839979649
Pixel Size Y: 0.9999898399796543
Band Count: 1
Pixel Type: F64
RasterFunction Infos: {"rasterFunctionInfos": [
{
"name": "FloodDepth_Feet",
"description": "A raster function template.",
"help": ""
},
{
"name": "None",
"description": "A No-Op Function.",
"help": ""
}
]}
Mensuration Capabilities:
Inspection Capabilities:
Has Histograms: true
Has Colormap: false
Has Multi Dimensions : false
Rendering Rule:
Min Scale: 0
Max Scale: 0
Copyright Text: URI OCE, URI EDC, URI Marine Affairs
Service Data Type: esriImageServiceDataTypeGeneric
Min Values: 5.04965561977618E-6
Max Values: 23.441402355035144
Mean Values: 6.84948906466084
Standard Deviation Values: 4.745085402291655
Object ID Field: OBJECTID
Fields:
-
OBJECTID
(
type: esriFieldTypeOID, alias: OBJECTID
)
-
Shape
(
type: esriFieldTypeGeometry, alias: Shape
)
-
Name
(
type: esriFieldTypeString, alias: Name, length: 200
)
-
MinPS
(
type: esriFieldTypeDouble, alias: MinPS
)
-
MaxPS
(
type: esriFieldTypeDouble, alias: MaxPS
)
-
LowPS
(
type: esriFieldTypeDouble, alias: LowPS
)
-
HighPS
(
type: esriFieldTypeDouble, alias: HighPS
)
-
Category
(
type: esriFieldTypeInteger, alias: Category
, Coded Values:
[0: Unknown]
, [1: Primary]
, [2: Overview]
, ...6 more...
)
-
Tag
(
type: esriFieldTypeString, alias: Tag, length: 100
)
-
GroupName
(
type: esriFieldTypeString, alias: GroupName, length: 100
)
-
ProductName
(
type: esriFieldTypeString, alias: ProductName, length: 100
)
-
CenterX
(
type: esriFieldTypeDouble, alias: CenterX
)
-
CenterY
(
type: esriFieldTypeDouble, alias: CenterY
)
-
ZOrder
(
type: esriFieldTypeInteger, alias: ZOrder
)
-
Shape_Length
(
type: esriFieldTypeDouble, alias: Shape_Length
)
-
Shape_Area
(
type: esriFieldTypeDouble, alias: Shape_Area
)
-
DateTime
(
type: esriFieldTypeDate, alias: DateTime, length: 8
)
Default Mosaic Method: LockRaster
Allowed Mosaic Methods: LockRaster,None
SortField:
SortValue: null
Mosaic Operator: First
Default Compression Quality: 90
Default Resampling Method: Bilinear
Max Record Count: 1000
Max Image Height: 4100
Max Image Width: 15000
Max Download Image Count: 20
Max Mosaic Image Count: 20
Allow Raster Function: true
Allow Copy: true
Allow Analysis: true
Allow Compute TiePoints: false
Supports Statistics: true
Supports Advanced Queries: true
Use StandardizedQueries: true
Raster Type Infos:
Name: Raster Dataset
Description: Supports all ArcGIS Raster Datasets
Help:
Has Raster Attribute Table: false
Edit Fields Info: null
Ownership Based AccessControl For Rasters: null
Child Resources:
Info
Histograms
Statistics
Key Properties
Legend
Raster Function Infos
Supported Operations:
Export Image
Query
Identify
Compute Histograms
Compute Statistics Histograms
Get Samples
Compute Class Statistics
Query GPS Info
Find Images
Image to Map
Map to Image
Measure from Image
Image to Map Multiray
Query Boundary
Compute Pixel Location
Compute Angles
Validate
Project