View In:
ArcGIS JavaScript
ArcGIS Online Map Viewer
ArcGIS Earth
Service Description: Suggested Design Elevation (BFE Equilivent) for Great Slat Pond area of Block Island
Name: SDE/BI_BFE_SLR0
Description: Suggested Design Elevation (BFE Equilivent) for Great Slat Pond area of Block Island
Single Fused Map Cache: false
Extent:
XMin: 283560.700860358
YMin: 17631.93595428789
XMax: 330390.84006035805
YMax: 59471.97835428789
Spatial Reference: 102730
(3438)
LatestVCSWkid(0)
Initial Extent:
XMin: 283560.700860358
YMin: 17631.93595428789
XMax: 330390.84006035805
YMax: 59471.97835428789
Spatial Reference: 102730
(3438)
LatestVCSWkid(0)
Full Extent:
XMin: 283560.700860358
YMin: 17631.93595428789
XMax: 330390.84006035805
YMax: 59471.97835428789
Spatial Reference: 102730
(3438)
LatestVCSWkid(0)
Pixel Size X: 3.2808000000000024
Pixel Size Y: 3.2807999999999997
Band Count: 1
Pixel Type: F32
RasterFunction Infos: {"rasterFunctionInfos": [
{
"name": "Stormtools Design Elevation",
"description": "Stormtools Design Elevation (SDE) values.",
"help": ""
},
{
"name": "None",
"description": "",
"help": ""
}
]}
Mensuration Capabilities: Basic
Inspection Capabilities:
Has Histograms: true
Has Colormap: false
Has Multi Dimensions : false
Rendering Rule:
Min Scale: 0
Max Scale: 0
Copyright Text:
Service Data Type: esriImageServiceDataTypeGeneric
Min Values: 11.003335952758789
Max Values: 25.60958480834961
Mean Values: 17.69069252149493
Standard Deviation Values: 5.618215518904132
Object ID Field:
Fields:
None
Default Mosaic Method: Center
Allowed Mosaic Methods:
SortField:
SortValue: null
Mosaic Operator: First
Default Compression Quality: 75
Default Resampling Method: Bilinear
Max Record Count: null
Max Image Height: 4100
Max Image Width: 15000
Max Download Image Count: null
Max Mosaic Image Count: null
Allow Raster Function: true
Allow Copy: true
Allow Analysis: true
Allow Compute TiePoints: false
Supports Statistics: false
Supports Advanced Queries: false
Use StandardizedQueries: true
Raster Type Infos:
Name: Raster Dataset
Description: Supports all ArcGIS Raster Datasets
Help:
Has Raster Attribute Table: false
Edit Fields Info: null
Ownership Based AccessControl For Rasters: null
Child Resources:
Info
Histograms
Statistics
Key Properties
Legend
Raster Function Infos
Supported Operations:
Export Image
Identify
Measure
Compute Histograms
Compute Statistics Histograms
Get Samples
Compute Class Statistics
Query Boundary
Compute Pixel Location
Compute Angles
Validate
Project