View In:
ArcGIS JavaScript
ArcGIS Online Map Viewer
ArcGIS Earth
Service Description: STORMTOOLS is a collection of tools designed specifically to map storm inundation along the Rhode Island coast, with and without sea level rise. Data products and reports are available at the STORMTOOLS website:(https://stormtools-mainpage-crc-uri.hub.arcgis.com/) As part of this work, STORMTOOLS models were used to generate new Base Flood Elevation (BFE), storm surge, wave crest height, and total water depth surfaces for Rhode Island's coastal waters. To avoid confusion with existing FEMA BFE maps, STORMTOOLS refers to these data as "Stormtools Design Elevation" (SDE) maps.
These data are served as a single mosaic that contains multiple raster datasets. To work as intended, the display must be “locked” to a specific Image ID limiting the display a single raster at any one time. Image ID # Data Content 1 100yr Event SURGE Height; 0 feet Sea Level Rise (SLR)
2 Including 2 feet SLR 3 Including 3 feet SLR
4 Including 5 feet SLR 5 Including 7 feet SLR 6 Including 10 feet SLR
Name: Stormtools2020/Mosaic_100yr_SDE_SURGE_All
Description: STORMTOOLS is a collection of tools designed specifically to map storm inundation along the Rhode Island coast, with and without sea level rise. Data products and reports are available at the STORMTOOLS website:(https://stormtools-mainpage-crc-uri.hub.arcgis.com/) As part of this work, STORMTOOLS models were used to generate new Base Flood Elevation (BFE), storm surge, wave crest height, and total water depth surfaces for Rhode Island's coastal waters. To avoid confusion with existing FEMA BFE maps, STORMTOOLS refers to these data as "Stormtools Design Elevation" (SDE) maps.
These data are served as a single mosaic that contains multiple raster datasets. To work as intended, the display must be “locked” to a specific Image ID limiting the display a single raster at any one time. Image ID # Data Content 1 100yr Event SURGE Height; 0 feet Sea Level Rise (SLR)
2 Including 2 feet SLR 3 Including 3 feet SLR
4 Including 5 feet SLR 5 Including 7 feet SLR 6 Including 10 feet SLR
Single Fused Map Cache: false
Extent:
XMin: -8004185.6603999995
YMin: 5056831.312023873
XMax: -7910241.614883108
YMax: 5145218.413999997
Spatial Reference: 102100
(3857)
LatestVCSWkid(0)
Initial Extent:
XMin: -8004185.6603999995
YMin: 5056831.312023873
XMax: -7910241.614883108
YMax: 5145218.413999997
Spatial Reference: 102100
(3857)
LatestVCSWkid(0)
Full Extent:
XMin: -8004185.6603999995
YMin: 5056831.312023873
XMax: -7910241.614883108
YMax: 5145218.413999997
Spatial Reference: 102100
(3857)
LatestVCSWkid(0)
Pixel Size X: 0.9999898399796839
Pixel Size Y: 0.9999898399796764
Band Count: 1
Pixel Type: F32
RasterFunction Infos: {"rasterFunctionInfos": [
{
"name": "None",
"description": "A No-Op Function.",
"help": ""
},
{
"name": "Stormtools Surge",
"description": "Color ramp to display STORMTOOLS surge values.",
"help": ""
}
]}
Mensuration Capabilities: None
Inspection Capabilities:
Has Histograms: true
Has Colormap: false
Has Multi Dimensions : false
Rendering Rule:
Min Scale: 0
Max Scale: 0
Copyright Text: RI CRMC, URI OCE, URI EDC, URI CRC
Service Data Type: esriImageServiceDataTypeGeneric
Min Values: 2.012166678206995
Max Values: 45.71207335963845
Mean Values: 19.82727238200341
Standard Deviation Values: 3.713600846004195
Object ID Field: OBJECTID
Fields:
-
OBJECTID
(
type: esriFieldTypeOID, alias: OBJECTID
)
-
Shape
(
type: esriFieldTypeGeometry, alias: Shape
)
-
Name
(
type: esriFieldTypeString, alias: Name, length: 200
)
-
MinPS
(
type: esriFieldTypeDouble, alias: MinPS
)
-
MaxPS
(
type: esriFieldTypeDouble, alias: MaxPS
)
-
LowPS
(
type: esriFieldTypeDouble, alias: LowPS
)
-
HighPS
(
type: esriFieldTypeDouble, alias: HighPS
)
-
Category
(
type: esriFieldTypeInteger, alias: Category
, Coded Values:
[0: Unknown]
, [1: Primary]
, [2: Overview]
, ...6 more...
)
-
Tag
(
type: esriFieldTypeString, alias: Tag, length: 100
)
-
GroupName
(
type: esriFieldTypeString, alias: GroupName, length: 100
)
-
ProductName
(
type: esriFieldTypeString, alias: ProductName, length: 100
)
-
CenterX
(
type: esriFieldTypeDouble, alias: CenterX
)
-
CenterY
(
type: esriFieldTypeDouble, alias: CenterY
)
-
ZOrder
(
type: esriFieldTypeInteger, alias: ZOrder
)
-
Shape_Length
(
type: esriFieldTypeDouble, alias: Shape_Length
)
-
Shape_Area
(
type: esriFieldTypeDouble, alias: Shape_Area
)
Default Mosaic Method: None
Allowed Mosaic Methods: None,LockRaster
SortField: N/A
SortValue: N/A
Mosaic Operator: First
Default Compression Quality: 90
Default Resampling Method: Bilinear
Max Record Count: 1000
Max Image Height: 4100
Max Image Width: 15000
Max Download Image Count: 20
Max Mosaic Image Count: 20
Allow Raster Function: true
Allow Copy: true
Allow Analysis: true
Allow Compute TiePoints: false
Supports Statistics: true
Supports Advanced Queries: true
Use StandardizedQueries: true
Raster Type Infos:
Name: Raster Dataset
Description: Supports all ArcGIS Raster Datasets
Help:
Has Raster Attribute Table: false
Edit Fields Info: null
Ownership Based AccessControl For Rasters: null
Child Resources:
Info
Histograms
Statistics
Key Properties
Legend
Raster Function Infos
Supported Operations:
Export Image
Query
Identify
Compute Histograms
Compute Statistics Histograms
Get Samples
Compute Class Statistics
Query GPS Info
Find Images
Image to Map
Map to Image
Measure from Image
Image to Map Multiray
Query Boundary
Compute Pixel Location
Compute Angles
Validate
Project