View In:
ArcGIS JavaScript
ArcGIS Online Map Viewer
ArcGIS Earth
Service Description: STORMTOOLS is a method to map storm inundation, with and without sea level rise, for varying return period storms that covers all of Rhode Island’s coastal waters. Data products and reports are available at the STORMTOOLS website:(https://stormtools-mainpage-crc-uri.hub.arcgis.com/)
Predictions are provided that show both flooding extent and depth for nuisance floods (1, 3, 5, and 10 year intervals) and the larger 25, 50, 100, and 500-year storm scenarios at the 95% confidence interval. Depending on the storm scenario, Sea level rise (SLR) of 1, 2, 3, 5,7, 10 feet are also modeled. Inundation maps are also provided for historical hurricanes including: 1938, 1954 (Carol), 1991 (Bob), and 2012 (Sandy).
Each storm scenario (i.e. 100-year event) is served as a mosaic that contains multiple raster datasets. To work as intended, the display must be “locked” to a specific Image ID limiting the display a single raster at any one time.
Image ID # Data Content
1 25yr Event; 0 feet Sea Level Rise (SLR)
2 Including 1 foot SLR
3 Including 2 feet SLR
4 Including 3 feet SLR
5 Including 5 feet SLR
6 Including 7 feet SLR
7 Including 10 feet SLR
Name: Stormtools2020/Mosaic_Merged_25yr_All
Description: STORMTOOLS is a method to map storm inundation, with and without sea level rise, for varying return period storms that covers all of Rhode Island’s coastal waters. Data products and reports are available at the STORMTOOLS website:(https://stormtools-mainpage-crc-uri.hub.arcgis.com/)
Predictions are provided that show both flooding extent and depth for nuisance floods (1, 3, 5, and 10 year intervals) and the larger 25, 50, 100, and 500-year storm scenarios at the 95% confidence interval. Depending on the storm scenario, Sea level rise (SLR) of 1, 2, 3, 5,7, 10 feet are also modeled. Inundation maps are also provided for historical hurricanes including: 1938, 1954 (Carol), 1991 (Bob), and 2012 (Sandy).
Each storm scenario (i.e. 100-year event) is served as a mosaic that contains multiple raster datasets. To work as intended, the display must be “locked” to a specific Image ID limiting the display a single raster at any one time.
Image ID # Data Content
1 25yr Event; 0 feet Sea Level Rise (SLR)
2 Including 1 foot SLR
3 Including 2 feet SLR
4 Including 3 feet SLR
5 Including 5 feet SLR
6 Including 7 feet SLR
7 Including 10 feet SLR
Single Fused Map Cache: false
Extent:
XMin: -8005577.6644
YMin: 5031711.90180356
XMax: -7907685.658994869
YMax: 5147655.7238000035
Spatial Reference: 102100
(3857)
LatestVCSWkid(0)
Initial Extent:
XMin: -8005577.6644
YMin: 5031711.90180356
XMax: -7907685.658994869
YMax: 5147655.7238000035
Spatial Reference: 102100
(3857)
LatestVCSWkid(0)
Full Extent:
XMin: -8005577.6644
YMin: 5031711.90180356
XMax: -7907685.658994869
YMax: 5147655.7238000035
Spatial Reference: 102100
(3857)
LatestVCSWkid(0)
Pixel Size X: 0.9999898399796798
Pixel Size Y: 0.9999898399796792
Band Count: 1
Pixel Type: F32
RasterFunction Infos: {"rasterFunctionInfos": [
{
"name": "None",
"description": "A No-Op Function.",
"help": ""
},
{
"name": "Inundation Including Lowlying Areas",
"description": "Display showing inundation areas that includes adjacent lowlying areas",
"help": ""
},
{
"name": "Inundation Without Lowlying Areas",
"description": "Display showing inundation areas not including adjacent lowlying areas",
"help": ""
},
{
"name": "Inundation Including Lowlying Areas HighVis",
"description": "High visibility display showing inundation areas that includes adjacent lowlying areas",
"help": ""
},
{
"name": "Inundation Without Lowlying Areas HighViz",
"description": "High visibility display showing inundation areas not including adjacent lowlying areas",
"help": ""
}
]}
Mensuration Capabilities: None
Inspection Capabilities:
Has Histograms: true
Has Colormap: false
Has Multi Dimensions : false
Rendering Rule:
Min Scale: 0
Max Scale: 0
Copyright Text: RI CRMC, URI OCE, URI EDC, URI CRC
Service Data Type: esriImageServiceDataTypeGeneric
Min Values: 1.951171875
Max Values: 997.048828125
Mean Values: 45.09092637715791
Standard Deviation Values: 186.65011386812407
Object ID Field: OBJECTID
Fields:
-
OBJECTID
(
type: esriFieldTypeOID, alias: OBJECTID
)
-
Shape
(
type: esriFieldTypeGeometry, alias: Shape
)
-
Name
(
type: esriFieldTypeString, alias: Name, length: 200
)
-
MinPS
(
type: esriFieldTypeDouble, alias: MinPS
)
-
MaxPS
(
type: esriFieldTypeDouble, alias: MaxPS
)
-
LowPS
(
type: esriFieldTypeDouble, alias: LowPS
)
-
HighPS
(
type: esriFieldTypeDouble, alias: HighPS
)
-
Category
(
type: esriFieldTypeInteger, alias: Category
, Coded Values:
[0: Unknown]
, [1: Primary]
, [2: Overview]
, ...6 more...
)
-
Tag
(
type: esriFieldTypeString, alias: Tag, length: 100
)
-
GroupName
(
type: esriFieldTypeString, alias: GroupName, length: 100
)
-
ProductName
(
type: esriFieldTypeString, alias: ProductName, length: 100
)
-
CenterX
(
type: esriFieldTypeDouble, alias: CenterX
)
-
CenterY
(
type: esriFieldTypeDouble, alias: CenterY
)
-
ZOrder
(
type: esriFieldTypeInteger, alias: ZOrder
)
-
Shape_Length
(
type: esriFieldTypeDouble, alias: Shape_Length
)
-
Shape_Area
(
type: esriFieldTypeDouble, alias: Shape_Area
)
Default Mosaic Method: None
Allowed Mosaic Methods: None,LockRaster
SortField: N/A
SortValue: N/A
Mosaic Operator: First
Default Compression Quality: 90
Default Resampling Method: Bilinear
Max Record Count: 1000
Max Image Height: 4100
Max Image Width: 15000
Max Download Image Count: 20
Max Mosaic Image Count: 20
Allow Raster Function: true
Allow Copy: true
Allow Analysis: true
Allow Compute TiePoints: false
Supports Statistics: true
Supports Advanced Queries: true
Use StandardizedQueries: true
Raster Type Infos:
Name: Raster Dataset
Description: Supports all ArcGIS Raster Datasets
Help:
Has Raster Attribute Table: false
Edit Fields Info: null
Ownership Based AccessControl For Rasters: null
Child Resources:
Info
Histograms
Statistics
Key Properties
Legend
Raster Function Infos
Supported Operations:
Export Image
Query
Identify
Compute Histograms
Compute Statistics Histograms
Get Samples
Compute Class Statistics
Query GPS Info
Find Images
Image to Map
Map to Image
Measure from Image
Image to Map Multiray
Query Boundary
Compute Pixel Location
Compute Angles
Validate
Project