View In:
ArcGIS JavaScript
ArcGIS Online Map Viewer
ArcGIS Earth
Service Description: Stormtools_Inland/Woonasquatucket_Pro50_Q500_Depth
Name: Stormtools_Inland/Woonasquatucket_Pro50_Q500_Depth
Description:
Single Fused Map Cache: false
Extent:
XMin: 312543.61389840225
YMin: 263586.9600997071
XMax: 357779.87681840226
YMax: 312176.0128597071
Spatial Reference: 102730
(3438)
LatestVCSWkid(0)
Initial Extent:
XMin: 312543.61389840225
YMin: 263586.9600997071
XMax: 357779.87681840226
YMax: 312176.0128597071
Spatial Reference: 102730
(3438)
LatestVCSWkid(0)
Full Extent:
XMin: 312543.61389840225
YMin: 263586.9600997071
XMax: 357779.87681840226
YMax: 312176.0128597071
Spatial Reference: 102730
(3438)
LatestVCSWkid(0)
Pixel Size X: 3.2999900000000006
Pixel Size Y: 3.2999899999999993
Band Count: 1
Pixel Type: F32
RasterFunction Infos: {"rasterFunctionInfos": [
{
"name": "Total Water Depth",
"description": "Color ramp to display the total water depth above grade(Surge + Tide).",
"help": ""
},
{
"name": "None",
"description": "",
"help": ""
}
]}
Mensuration Capabilities: Basic
Inspection Capabilities:
Has Histograms: true
Has Colormap: false
Has Multi Dimensions : false
Rendering Rule:
Min Scale: 0
Max Scale: 0
Copyright Text:
Service Data Type: esriImageServiceDataTypeGeneric
Min Values: 9.9945068359375E-4
Max Values: 30.533737182617188
Mean Values: 3.9187090276457965
Standard Deviation Values: 2.139891110208215
Object ID Field:
Fields:
None
Default Mosaic Method: Center
Allowed Mosaic Methods:
SortField:
SortValue: null
Mosaic Operator: First
Default Compression Quality: 90
Default Resampling Method: Bilinear
Max Record Count: null
Max Image Height: 4100
Max Image Width: 15000
Max Download Image Count: null
Max Mosaic Image Count: null
Allow Raster Function: true
Allow Copy: false
Allow Analysis: false
Allow Compute TiePoints: false
Supports Statistics: false
Supports Advanced Queries: false
Use StandardizedQueries: true
Raster Type Infos:
Name: Raster Dataset
Description: Supports all ArcGIS Raster Datasets
Help:
Has Raster Attribute Table: false
Edit Fields Info: null
Ownership Based AccessControl For Rasters: null
Child Resources:
Info
Histograms
Statistics
Key Properties
Legend
Raster Function Infos
Supported Operations:
Export Image
Identify
Measure
Compute Histograms
Compute Statistics Histograms
Get Samples
Compute Class Statistics
Query Boundary
Compute Pixel Location
Compute Angles
Validate
Project