View In:
ArcGIS JavaScript
ArcGIS Online Map Viewer
ArcGIS Earth
Service Description: Water depths relative to Mean High Water (MHW). Calculations were performed using the standard NOAA methodology outlined in the technical document: Detailed Method for Mapping Sea Level Rise. January 2017.
Name: Elevation/WaterDepth_RelativeTo_MHW
Description: Water depths relative to Mean High Water (MHW). Calculations were performed using the standard NOAA methodology outlined in the technical document: Detailed Method for Mapping Sea Level Rise. January 2017.
Single Fused Map Cache: false
Extent:
XMin: 215031.4349068366
YMin: 17768.993522428325
XMax: 456465.50690683664
YMax: 346196.75832242833
Spatial Reference: 102730
(3438)
LatestVCSWkid(0)
Initial Extent:
XMin: 215031.4349068366
YMin: 17768.993522428325
XMax: 456465.50690683664
YMax: 346196.75832242833
Spatial Reference: 102730
(3438)
LatestVCSWkid(0)
Full Extent:
XMin: 215031.4349068366
YMin: 17768.993522428325
XMax: 456465.50690683664
YMax: 346196.75832242833
Spatial Reference: 102730
(3438)
LatestVCSWkid(0)
Pixel Size X: 3.2808000000000006
Pixel Size Y: 3.2808
Band Count: 1
Pixel Type: F32
RasterFunction Infos: {"rasterFunctionInfos": [{
"name": "None",
"description": "",
"help": ""
}]}
Mensuration Capabilities: Basic
Inspection Capabilities:
Has Histograms: true
Has Colormap: false
Has Multi Dimensions : false
Rendering Rule:
Min Scale: 0
Max Scale: 0
Copyright Text:
Service Data Type: esriImageServiceDataTypeGeneric
Min Values: -323.5336608886719
Max Values: 0
Mean Values: -89.30138775584567
Standard Deviation Values: 42.1795451956679
Object ID Field:
Fields:
None
Default Mosaic Method: Center
Allowed Mosaic Methods:
SortField:
SortValue: null
Mosaic Operator: First
Default Compression Quality: 75
Default Resampling Method: Bilinear
Max Record Count: null
Max Image Height: 4100
Max Image Width: 15000
Max Download Image Count: null
Max Mosaic Image Count: null
Allow Raster Function: true
Allow Copy: true
Allow Analysis: true
Allow Compute TiePoints: false
Supports Statistics: false
Supports Advanced Queries: false
Use StandardizedQueries: true
Raster Type Infos:
Name: Raster Dataset
Description: Supports all ArcGIS Raster Datasets
Help:
Has Raster Attribute Table: false
Edit Fields Info: null
Ownership Based AccessControl For Rasters: null
Child Resources:
Info
Histograms
Statistics
Key Properties
Legend
Raster Function Infos
Supported Operations:
Export Image
Identify
Measure
Compute Histograms
Compute Statistics Histograms
Get Samples
Compute Class Statistics
Query Boundary
Compute Pixel Location
Compute Angles
Validate
Project