View In:
ArcGIS JavaScript
ArcGIS Online Map Viewer
ArcGIS Earth
Service Description: These data are served as a single mosaic that contains multiple raster datasets. There is one mosaic for each MHHW surface. To work as intended, the display must be “locked” to a specific Image ID limiting the display a single raster at any one time.
Image ID # Data Content
1 MHHW with 0 feet Sea Level Rise (SLR)
2 Including 1 feet SLR
3 Including 2 feet SLR
4 Including 3 feet SLR
5 Including 5 feet SLR
6 Including 7 feet SLR
7 Including 10 feet SLR
8 Including 12 feet SLR
Name: General/Mosaic_Merged_MHHW_All
Description: These data are served as a single mosaic that contains multiple raster datasets. There is one mosaic for each MHHW surface. To work as intended, the display must be “locked” to a specific Image ID limiting the display a single raster at any one time.
Image ID # Data Content
1 MHHW with 0 feet Sea Level Rise (SLR)
2 Including 1 feet SLR
3 Including 2 feet SLR
4 Including 3 feet SLR
5 Including 5 feet SLR
6 Including 7 feet SLR
7 Including 10 feet SLR
8 Including 12 feet SLR
Single Fused Map Cache: false
Extent:
XMin: -8005666.2926
YMin: 5031739.09609289
XMax: -7914583.218015291
YMax: 5165988.7321000025
Spatial Reference: 102100
(3857)
LatestVCSWkid(0)
Initial Extent:
XMin: -8005666.2926
YMin: 5031739.09609289
XMax: -7914583.218015291
YMax: 5165988.7321000025
Spatial Reference: 102100
(3857)
LatestVCSWkid(0)
Full Extent:
XMin: -8005666.2926
YMin: 5031739.09609289
XMax: -7914583.218015291
YMax: 5165988.7321000025
Spatial Reference: 102100
(3857)
LatestVCSWkid(0)
Pixel Size X: 0.9999898399796834
Pixel Size Y: 0.9999898399796832
Band Count: 1
Pixel Type: U16
RasterFunction Infos: {"rasterFunctionInfos": [
{
"name": "None",
"description": "A No-Op Function.",
"help": ""
},
{
"name": "Inundation Without Adjacent Lowlying Areas",
"description": "Inundation extent with adjacent lowlying areas removed from the display. Lowlying areas may or may not be flooded and require additional on-the-ground investigation to determine if hydro-connectivity exists.",
"help": ""
},
{
"name": "Inundation Including Adjacent Lowlying Areas",
"description": "Inundation extent including adjacent lowlying areas. Lowlying areas may or may not be flooded and require additional on-the-ground investigation to determine if hydro-connectivity exists.",
"help": ""
}
]}
Mensuration Capabilities: None
Inspection Capabilities:
Has Histograms: true
Has Colormap: false
Has Multi Dimensions : false
Rendering Rule:
Min Scale: 0
Max Scale: 0
Copyright Text: URI EDC
Service Data Type: esriImageServiceDataTypeGeneric
Min Values: 0
Max Values: 37667
Mean Values: 3673.646517982389
Standard Deviation Values: 9573.960726859
Object ID Field: OBJECTID
Fields:
-
OBJECTID
(
type: esriFieldTypeOID, alias: OBJECTID
)
-
Shape
(
type: esriFieldTypeGeometry, alias: Shape
)
-
Name
(
type: esriFieldTypeString, alias: Name, length: 200
)
-
MinPS
(
type: esriFieldTypeDouble, alias: MinPS
)
-
MaxPS
(
type: esriFieldTypeDouble, alias: MaxPS
)
-
LowPS
(
type: esriFieldTypeDouble, alias: LowPS
)
-
HighPS
(
type: esriFieldTypeDouble, alias: HighPS
)
-
Category
(
type: esriFieldTypeInteger, alias: Category
, Coded Values:
[0: Unknown]
, [1: Primary]
, [2: Overview]
, ...6 more...
)
-
Tag
(
type: esriFieldTypeString, alias: Tag, length: 100
)
-
GroupName
(
type: esriFieldTypeString, alias: GroupName, length: 100
)
-
ProductName
(
type: esriFieldTypeString, alias: ProductName, length: 100
)
-
CenterX
(
type: esriFieldTypeDouble, alias: CenterX
)
-
CenterY
(
type: esriFieldTypeDouble, alias: CenterY
)
-
ZOrder
(
type: esriFieldTypeInteger, alias: ZOrder
)
-
Shape_Length
(
type: esriFieldTypeDouble, alias: Shape_Length
)
-
Shape_Area
(
type: esriFieldTypeDouble, alias: Shape_Area
)
Default Mosaic Method: Northwest
Allowed Mosaic Methods: NorthWest,Center,LockRaster,ByAttribute,Nadir,Viewpoint,Seamline,None
SortField:
SortValue: null
Mosaic Operator: First
Default Compression Quality: 75
Default Resampling Method: Bilinear
Max Record Count: 1000
Max Image Height: 4100
Max Image Width: 15000
Max Download Image Count: 20
Max Mosaic Image Count: 20
Allow Raster Function: true
Allow Copy: true
Allow Analysis: true
Allow Compute TiePoints: false
Supports Statistics: true
Supports Advanced Queries: true
Use StandardizedQueries: true
Raster Type Infos:
Name: Raster Dataset
Description: Supports all ArcGIS Raster Datasets
Help:
Has Raster Attribute Table: false
Edit Fields Info: null
Ownership Based AccessControl For Rasters: null
Child Resources:
Info
Histograms
Statistics
Key Properties
Legend
Raster Function Infos
Supported Operations:
Export Image
Query
Identify
Compute Histograms
Compute Statistics Histograms
Get Samples
Compute Class Statistics
Query GPS Info
Find Images
Image to Map
Map to Image
Measure from Image
Image to Map Multiray
Query Boundary
Compute Pixel Location
Compute Angles
Validate
Project