View In:
ArcGIS JavaScript
ArcGIS Online Map Viewer
ArcGIS Earth
Service Description: STORMTOOLS is a collection of tools designed specifically to map storm inundation along the Rhode Island coast, with and without sea level rise. Data products and reports are available at the Shoreline Change Special Area Management Plan's website:(http://www.beachsamp.org)
As part of this work, STORMTOOLS models were used to generate new Base Flood Elevation (BFE) and storm surge surfaces for Rhode Island's South Coast. To avoid confusion with existing FEMA BFE maps, STORMTOOLS refers to these data as "Suggested Design Elevation" (SDE) maps.
TYhese TOTAL WATER DEPTH data are served as a single mosaic that contains multiple raster datasets. To work as intended, the display must be “locked” to a specific Image ID limiting the display a single raster at any one time.
Image ID # Data Content
1 100yr Event TOTAL WATER DEPTH; 0 feet Sea Level Rise (SLR)
2 Including 2 foot SLR
3 Including 5 feet SLR
4 Including 7 feet SLR
5 Including 10 feet SLR
Name: SDE/Mosaic_SouthShore_100yr_TOTALDEPTH
Description: STORMTOOLS is a collection of tools designed specifically to map storm inundation along the Rhode Island coast, with and without sea level rise. Data products and reports are available at the Shoreline Change Special Area Management Plan's website:(http://www.beachsamp.org)
As part of this work, STORMTOOLS models were used to generate new Base Flood Elevation (BFE) and storm surge surfaces for Rhode Island's South Coast. To avoid confusion with existing FEMA BFE maps, STORMTOOLS refers to these data as "Suggested Design Elevation" (SDE) maps.
TYhese TOTAL WATER DEPTH data are served as a single mosaic that contains multiple raster datasets. To work as intended, the display must be “locked” to a specific Image ID limiting the display a single raster at any one time.
Image ID # Data Content
1 100yr Event TOTAL WATER DEPTH; 0 feet Sea Level Rise (SLR)
2 Including 2 foot SLR
3 Including 5 feet SLR
4 Including 7 feet SLR
5 Including 10 feet SLR
Single Fused Map Cache: false
Extent:
XMin: -8003011.231899999
YMin: 5031749.397946457
XMax: -7951596.7542774435
YMax: 5077845.9296
Spatial Reference: 102100
(3857)
LatestVCSWkid(0)
Initial Extent:
XMin: -8003011.231899999
YMin: 5031749.397946457
XMax: -7951596.7542774435
YMax: 5077845.9296
Spatial Reference: 102100
(3857)
LatestVCSWkid(0)
Full Extent:
XMin: -8003011.231899999
YMin: 5031749.397946457
XMax: -7951596.7542774435
YMax: 5077845.9296
Spatial Reference: 102100
(3857)
LatestVCSWkid(0)
Pixel Size X: 0.9999898399796863
Pixel Size Y: 0.9999898399796734
Band Count: 1
Pixel Type: F32
RasterFunction Infos: {"rasterFunctionInfos": [
{
"name": "None",
"description": "A No-Op Function.",
"help": ""
},
{
"name": "Total Water Depth",
"description": "Color ramp to display the total water depth above grade(Surge + Tide).",
"help": ""
}
]}
Mensuration Capabilities: None
Inspection Capabilities:
Has Histograms: true
Has Colormap: false
Has Multi Dimensions : false
Rendering Rule:
Min Scale: 0
Max Scale: 0
Copyright Text: RI CRMC, URI OCE, URI EDC, URI CRC
Service Data Type: esriImageServiceDataTypeGeneric
Min Values: -4.209122313186526
Max Values: 49.1998307146132
Mean Values: 14.155271872739329
Standard Deviation Values: 8.348803157028904
Object ID Field: OBJECTID
Fields:
-
OBJECTID
(
type: esriFieldTypeOID, alias: OBJECTID
)
-
Shape
(
type: esriFieldTypeGeometry, alias: Shape
)
-
Name
(
type: esriFieldTypeString, alias: Name, length: 200
)
-
MinPS
(
type: esriFieldTypeDouble, alias: MinPS
)
-
MaxPS
(
type: esriFieldTypeDouble, alias: MaxPS
)
-
LowPS
(
type: esriFieldTypeDouble, alias: LowPS
)
-
HighPS
(
type: esriFieldTypeDouble, alias: HighPS
)
-
Category
(
type: esriFieldTypeInteger, alias: Category
, Coded Values:
[0: Unknown]
, [1: Primary]
, [2: Overview]
, ...6 more...
)
-
Tag
(
type: esriFieldTypeString, alias: Tag, length: 100
)
-
GroupName
(
type: esriFieldTypeString, alias: GroupName, length: 100
)
-
ProductName
(
type: esriFieldTypeString, alias: ProductName, length: 100
)
-
CenterX
(
type: esriFieldTypeDouble, alias: CenterX
)
-
CenterY
(
type: esriFieldTypeDouble, alias: CenterY
)
-
ZOrder
(
type: esriFieldTypeInteger, alias: ZOrder
)
-
Shape_Length
(
type: esriFieldTypeDouble, alias: Shape_Length
)
-
Shape_Area
(
type: esriFieldTypeDouble, alias: Shape_Area
)
Default Mosaic Method: Northwest
Allowed Mosaic Methods: NorthWest,Center,LockRaster,ByAttribute,Nadir,Viewpoint,Seamline,None
SortField:
SortValue: null
Mosaic Operator: First
Default Compression Quality: 90
Default Resampling Method: Bilinear
Max Record Count: 1000
Max Image Height: 4100
Max Image Width: 15000
Max Download Image Count: 20
Max Mosaic Image Count: 20
Allow Raster Function: true
Allow Copy: true
Allow Analysis: true
Allow Compute TiePoints: false
Supports Statistics: true
Supports Advanced Queries: true
Use StandardizedQueries: true
Raster Type Infos:
Name: Raster Dataset
Description: Supports all ArcGIS Raster Datasets
Help:
Has Raster Attribute Table: false
Edit Fields Info: null
Ownership Based AccessControl For Rasters: null
Child Resources:
Info
Histograms
Statistics
Key Properties
Legend
Raster Function Infos
Supported Operations:
Export Image
Query
Identify
Compute Histograms
Compute Statistics Histograms
Get Samples
Compute Class Statistics
Query GPS Info
Find Images
Image to Map
Map to Image
Measure from Image
Image to Map Multiray
Query Boundary
Compute Pixel Location
Compute Angles
Validate
Project