View In:
ArcGIS JavaScript
ArcGIS Online Map Viewer
ArcGIS Earth
Service Description: Surface showing the difference between MHHW and NAVD88
Name: Stormtools2020/MHHW_To_NAVD_ConversionSurface
Description: Surface showing the difference between MHHW and NAVD88
Single Fused Map Cache: false
Extent:
XMin: 207145.65763
YMin: 4119.423449999827
XMax: 462063.81762999995
YMax: 366319.74344999983
Spatial Reference: 103144
(6568)
VCSWkid(5703)
LatestVCSWkid(5703)
Initial Extent:
XMin: 207145.65763
YMin: 4119.423449999827
XMax: 462063.81762999995
YMax: 366319.74344999983
Spatial Reference: 103144
(6568)
VCSWkid(5703)
LatestVCSWkid(5703)
Full Extent:
XMin: 207145.65763
YMin: 4119.423449999827
XMax: 462063.81762999995
YMax: 366319.74344999983
Spatial Reference: 103144
(6568)
VCSWkid(5703)
LatestVCSWkid(5703)
Pixel Size X: 328.0799999999999
Pixel Size Y: 328.08
Band Count: 1
Pixel Type: F32
RasterFunction Infos: {"rasterFunctionInfos": [{
"name": "None",
"description": "",
"help": ""
}]}
Mensuration Capabilities: Basic
Inspection Capabilities:
Has Histograms: true
Has Colormap: false
Has Multi Dimensions : false
Rendering Rule:
Min Scale: 0
Max Scale: 0
Copyright Text:
Service Data Type: esriImageServiceDataTypeGeneric
Min Values: -2.5160000324249268
Max Values: -0.8399999737739563
Mean Values: -1.8693222966106775
Standard Deviation Values: 0.4833684377631681
Object ID Field:
Fields:
None
Default Mosaic Method: Center
Allowed Mosaic Methods:
SortField:
SortValue: null
Mosaic Operator: First
Default Compression Quality: 75
Default Resampling Method: Bilinear
Max Record Count: null
Max Image Height: 4100
Max Image Width: 15000
Max Download Image Count: null
Max Mosaic Image Count: null
Allow Raster Function: true
Allow Copy: true
Allow Analysis: true
Allow Compute TiePoints: false
Supports Statistics: false
Supports Advanced Queries: false
Use StandardizedQueries: true
Raster Type Infos:
Name: Raster Dataset
Description: Supports all ArcGIS Raster Datasets
Help:
Has Raster Attribute Table: false
Edit Fields Info: null
Ownership Based AccessControl For Rasters: null
Child Resources:
Info
Histograms
Statistics
Key Properties
Legend
Raster Function Infos
Supported Operations:
Export Image
Identify
Measure
Compute Histograms
Compute Statistics Histograms
Get Samples
Compute Class Statistics
Query Boundary
Compute Pixel Location
Compute Angles
Validate
Project