View In:
ArcGIS JavaScript
ArcGIS Online Map Viewer
ArcGIS Earth
Service Description: The vision for STORMTOOLS is to provide access to a suite of high-resolution coastal planning tools (numerical models, etc.) that can be used to develop policies and actions mitigating storm vulnerability. The STORMTOOLS inundation mapping effort represents the first step in the development of an integrated toolset that includes the development of simplified flood maps for varying storm return periods and sea level rise scenarios, incorporating the effects of both storm surge and tide. Following the NOAA Detailed Method for Mapping Sea Level Rise Inundation (2017) Mean Higher-High Water (MHHW) surfaces were developed for Narragansett Bay including the addition of 1, 2, 3, 5, 7, 10, and 12 feet of Sea Level Rise (SLR) using NOAA's VDatum (v4.01) (https://vdatum.noaa.gov/) approach to account for local and regional tidal variability. These data are served as a mosaic that contains multiple raster datasets. To work as intended, the display must be “locked” to a specific Image ID limiting the display a single raster at any one time.
Image ID # Data Content
1 MHHW; 0 feet Sea Level Rise (SLR)
2 Including 1 foot SLR
3 Including 2 feet SLR
4 Including 3 feet SLR
5 Including 5 feet SLR
6 Including 7 feet SLR
7 Including 10 feet SLR
8 Including 12 feet SLR
Name: Stormtools2020/Mosaic_Merged_MHHW_All
Description: The vision for STORMTOOLS is to provide access to a suite of high-resolution coastal planning tools (numerical models, etc.) that can be used to develop policies and actions mitigating storm vulnerability. The STORMTOOLS inundation mapping effort represents the first step in the development of an integrated toolset that includes the development of simplified flood maps for varying storm return periods and sea level rise scenarios, incorporating the effects of both storm surge and tide. Following the NOAA Detailed Method for Mapping Sea Level Rise Inundation (2017) Mean Higher-High Water (MHHW) surfaces were developed for Narragansett Bay including the addition of 1, 2, 3, 5, 7, 10, and 12 feet of Sea Level Rise (SLR) using NOAA's VDatum (v4.01) (https://vdatum.noaa.gov/) approach to account for local and regional tidal variability. These data are served as a mosaic that contains multiple raster datasets. To work as intended, the display must be “locked” to a specific Image ID limiting the display a single raster at any one time.
Image ID # Data Content
1 MHHW; 0 feet Sea Level Rise (SLR)
2 Including 1 foot SLR
3 Including 2 feet SLR
4 Including 3 feet SLR
5 Including 5 feet SLR
6 Including 7 feet SLR
7 Including 10 feet SLR
8 Including 12 feet SLR
Single Fused Map Cache: false
Extent:
XMin: -8005666.2926
YMin: 5031708.2833078485
XMax: -7906739.29771049
YMax: 5165988.919
Spatial Reference: 102100
(3857)
LatestVCSWkid(0)
Initial Extent:
XMin: -8005666.2926
YMin: 5031708.2833078485
XMax: -7906739.29771049
YMax: 5165988.919
Spatial Reference: 102100
(3857)
LatestVCSWkid(0)
Full Extent:
XMin: -8005666.2926
YMin: 5031708.2833078485
XMax: -7906739.29771049
YMax: 5165988.919
Spatial Reference: 102100
(3857)
LatestVCSWkid(0)
Pixel Size X: 0.9999898399796808
Pixel Size Y: 0.999989839979679
Band Count: 1
Pixel Type: F32
RasterFunction Infos: {"rasterFunctionInfos": [
{
"name": "None",
"description": "A No-Op Function.",
"help": ""
},
{
"name": "Inundation Without Adjacent Lowlying Areas",
"description": "Inundation extent with adjacent lowlying areas removed from the display. Lowlying areas may or may not be flooded and require additional on-the-ground investigation to determine if hydro-connectivity exists.",
"help": ""
},
{
"name": "Inundation Including Adjacent Lowlying Areas",
"description": "Inundation extent including adjacent lowlying areas. Lowlying areas may or may not be flooded and require additional on-the-ground investigation to determine if hydro-connectivity exists.",
"help": ""
},
{
"name": "MHHW Extent",
"description": "Extent of MHHW",
"help": ""
},
{
"name": "Water Depth",
"description": "Inundation with associated water depths",
"help": ""
},
{
"name": "FloodExtent MHHW Plus 1",
"description": "Extent of water for MHHW plus 1' SLR",
"help": ""
},
{
"name": "FloodExtent MHHW Plus 2",
"description": "Extent of water for MHHW plus 2' SLR",
"help": ""
},
{
"name": "FloodExtent MHHW Plus 3",
"description": "Extent of water for MHHW plus 3' SLR",
"help": ""
},
{
"name": "FloodExtent MHHW Plus 5",
"description": "Extent of water for MHHW plus 5' SLR",
"help": ""
},
{
"name": "FloodExtent MHHW Plus 7",
"description": "Extent of water for MHHW plus 7' SLR",
"help": ""
},
{
"name": "FloodExtent MHHW Plus 10",
"description": "Extent of water for MHHW plus 10' SLR",
"help": ""
},
{
"name": "FloodExtent MHHW Plus 12",
"description": "Extent of water for MHHW plus 12' SLR",
"help": ""
}
]}
Mensuration Capabilities: None
Inspection Capabilities:
Has Histograms: true
Has Colormap: false
Has Multi Dimensions : false
Rendering Rule:
Min Scale: 0
Max Scale: 0
Copyright Text: RI CRMC, URI OCE, URI EDC, URI CRC
Service Data Type: esriImageServiceDataTypeGeneric
Min Values: -192.21294185519218
Max Values: 997.048828125
Mean Values: 21.487176040155134
Standard Deviation Values: 196.10236078249812
Object ID Field: OBJECTID
Fields:
-
OBJECTID
(
type: esriFieldTypeOID, alias: OBJECTID
)
-
Shape
(
type: esriFieldTypeGeometry, alias: Shape
)
-
Name
(
type: esriFieldTypeString, alias: Name, length: 200
)
-
MinPS
(
type: esriFieldTypeDouble, alias: MinPS
)
-
MaxPS
(
type: esriFieldTypeDouble, alias: MaxPS
)
-
LowPS
(
type: esriFieldTypeDouble, alias: LowPS
)
-
HighPS
(
type: esriFieldTypeDouble, alias: HighPS
)
-
Category
(
type: esriFieldTypeInteger, alias: Category
, Coded Values:
[0: Unknown]
, [1: Primary]
, [2: Overview]
, ...6 more...
)
-
Tag
(
type: esriFieldTypeString, alias: Tag, length: 100
)
-
GroupName
(
type: esriFieldTypeString, alias: GroupName, length: 100
)
-
ProductName
(
type: esriFieldTypeString, alias: ProductName, length: 100
)
-
CenterX
(
type: esriFieldTypeDouble, alias: CenterX
)
-
CenterY
(
type: esriFieldTypeDouble, alias: CenterY
)
-
ZOrder
(
type: esriFieldTypeInteger, alias: ZOrder
)
-
Shape_Length
(
type: esriFieldTypeDouble, alias: Shape_Length
)
-
Shape_Area
(
type: esriFieldTypeDouble, alias: Shape_Area
)
Default Mosaic Method: None
Allowed Mosaic Methods: None,LockRaster
SortField: N/A
SortValue: N/A
Mosaic Operator: First
Default Compression Quality: 90
Default Resampling Method: Bilinear
Max Record Count: 1000
Max Image Height: 4100
Max Image Width: 15000
Max Download Image Count: 20
Max Mosaic Image Count: 20
Allow Raster Function: true
Allow Copy: true
Allow Analysis: true
Allow Compute TiePoints: false
Supports Statistics: true
Supports Advanced Queries: true
Use StandardizedQueries: true
Raster Type Infos:
Name: Raster Dataset
Description: Supports all ArcGIS Raster Datasets
Help:
Has Raster Attribute Table: false
Edit Fields Info: null
Ownership Based AccessControl For Rasters: null
Child Resources:
Info
Histograms
Statistics
Key Properties
Legend
Raster Function Infos
Supported Operations:
Export Image
Query
Identify
Compute Histograms
Compute Statistics Histograms
Get Samples
Compute Class Statistics
Query GPS Info
Find Images
Image to Map
Map to Image
Measure from Image
Image to Map Multiray
Query Boundary
Compute Pixel Location
Compute Angles
Validate
Project